BEGIN:VCALENDAR
VERSION:2.0
PRODID:-//Listeso Music Group - A Boutique String Quartet Agency - ECPv6.15.20//NONSGML v1.0//EN
CALSCALE:GREGORIAN
METHOD:PUBLISH
X-ORIGINAL-URL:https://www.listeso.com
X-WR-CALDESC:Events for Listeso Music Group - A Boutique String Quartet Agency
REFRESH-INTERVAL;VALUE=DURATION:PT1H
X-Robots-Tag:noindex
X-PUBLISHED-TTL:PT1H
BEGIN:VTIMEZONE
TZID:America/Vancouver
BEGIN:DAYLIGHT
TZOFFSETFROM:-0800
TZOFFSETTO:-0700
TZNAME:PDT
DTSTART:20240310T100000
END:DAYLIGHT
BEGIN:STANDARD
TZOFFSETFROM:-0700
TZOFFSETTO:-0800
TZNAME:PST
DTSTART:20241103T090000
END:STANDARD
BEGIN:DAYLIGHT
TZOFFSETFROM:-0800
TZOFFSETTO:-0700
TZNAME:PDT
DTSTART:20250309T100000
END:DAYLIGHT
BEGIN:STANDARD
TZOFFSETFROM:-0700
TZOFFSETTO:-0800
TZNAME:PST
DTSTART:20251102T090000
END:STANDARD
BEGIN:DAYLIGHT
TZOFFSETFROM:-0800
TZOFFSETTO:-0700
TZNAME:PDT
DTSTART:20260308T100000
END:DAYLIGHT
BEGIN:STANDARD
TZOFFSETFROM:-0700
TZOFFSETTO:-0800
TZNAME:PST
DTSTART:20261101T090000
END:STANDARD
END:VTIMEZONE
BEGIN:VEVENT
DTSTART;TZID=America/Vancouver:20251220T180000
DTEND;TZID=America/Vancouver:20251220T190000
DTSTAMP:20260421T151955
CREATED:20251113T120949Z
LAST-MODIFIED:20251113T120949Z
UID:10007027-1766253600-1766257200@www.listeso.com
SUMMARY:Candlelight: Christmas Special Featuring "The Nutcracker" & More
DESCRIPTION:Overview\nCandlelight concerts bring the magic of a live\, multi-sensory musical experience to awe-inspiring locations like never seen before in Victoria. Get your tickets now to discover music inspired by the winter and the holiday spirit at Christ Church Cathedral (Victoria) under the gentle glow of candlelight. \nGeneral Info\n\n⏳ Duration: 60 minutes. Doors open 45 minutes before the show and close 5 minutes prior to the start. Late arrivals will not be permitted\n👤 Age requirement: 8 years old or older. Anyone under the age of 16 must be accompanied by an adult\n♿ Accessibility: This venue is accessible for people with reduced mobility\n🪑 Seating: Seating is assigned on a first come first served basis in each zone\n\nTentative Program\n\nHoliday Medley – Various (Hark the Herald Angels Sing\, The First Noël\, Deck the Halls)\nO Holy Night – Adolphe Adam\nMa’oz Tzur – Traditional Hanukkah Song\nThe Snow is Dancing – Claude Debussy\nThe Seasons\, Op. 37a – Pyotr Ilyich Tchaikovsky (I. January. By the Hearth\, XII. December. Christmas)\nThe Skaters Waltz\, Op. 183 (Les Patineurs) – Émile Waldteufel\nGreensleeves (What Child is This) – Traditional\nHoliday Medley (Joy to the World\, Angels We Have Heard on High\, Away in a Manger)\nThe Nutcracker\, Op. 71 – Pyotr Ilyich Tchaikovsky (Miniature Overture\, Act I Scene II: No. 2 March\, Act II: No. 12d Divertissement. Trepak Russian Dance\, Act II: No. 13 Waltz of the Flowers\, Act II: No. 14c Pas de Deux. Variation II Dance of the Sugar Plum Fairy)\n\nPerformers\n🎻 Listeso String Quartet \nBook a Private Event\nLooking to create an unforgettable experience for your wedding\, or special occasion? We offer private event bookings with customized programs tailored to your needs. \nGet a quote
URL:https://www.listeso.com/concert/2025-12-20-christ-church-cathedral-christmas-special-featuring-the-nutcracker-and-more/
LOCATION:Christ Church Cathedral\, Vancouver\, Canada
CATEGORIES:Victoria, BC
ATTACH;FMTTYPE=image/jpeg:https://www.listeso.com/wp-content/uploads/2025/10/f103b8ae-3f9f-11f0-bac3-7a0325f30785-tPI0pT.jpg
END:VEVENT
BEGIN:VEVENT
DTSTART;TZID=America/Vancouver:20251219T183000
DTEND;TZID=America/Vancouver:20251219T193000
DTSTAMP:20260421T151955
CREATED:20251120T120932Z
LAST-MODIFIED:20251120T120932Z
UID:10007301-1766169000-1766172600@www.listeso.com
SUMMARY:Candlelight: Christmas Special Featuring "The Nutcracker" & More
DESCRIPTION:Overview\nCandlelight concerts bring the magic of a live\, multi-sensory musical experience to awe-inspiring locations like never seen before in Victoria. Get your tickets now to discover music inspired by the winter and the holiday spirit at St Ann’s Academy and Auditorium National Historic Site under the gentle glow of candlelight. \nGeneral Info\n\n📍 Venue: St Ann’s Academy and Auditorium National Historic Site\n⏳ Duration: 60 minutes. Doors open 30 minutes before the show and close 5 minutes prior to the start. Late arrivals will not be permitted\n👤 Age requirement: 8 years old or older. Anyone under the age of 16 must be accompanied by an adult\n♿ Accessibility: This venue is accessible for people with reduced mobility\n🪑 Seating: Assigned on a first come first served basis in each zone\n\nTentative Program\n\nHoliday Medley – Various (Hark the Herald Angels Sing\, The First Noël\, Deck the Halls)\nO Holy Night – Adolphe Adam\nMa’oz Tzur – Traditional Hanukkah Song\nThe Snow is Dancing – Claude Debussy\nThe Seasons\, Op. 37a – Pyotr Ilyich Tchaikovsky (I. January. By the Hearth\, XII. December. Christmas)\nThe Skaters Waltz\, Op. 183 (Les Patineurs) – Émile Waldteufel\nGreensleeves (What Child is This) – Traditional\nHoliday Medley (Joy to the World\, Angels We Have Heard on High\, Away in a Manger)\nThe Nutcracker\, Op. 71 – Pyotr Ilyich Tchaikovsky (Miniature Overture\, March\, Trepak Russian Dance\, Waltz of the Flowers\, Dance of the Sugar Plum Fairy)\n\nPerformers\n🎻 String Quartet: 2 violins\, 1 viola\, 1 cello \nBook a Private Event\nLooking to create an unforgettable experience for your wedding\, or special occasion? We offer private event bookings with customized programs tailored to your needs. \nGet a quote
URL:https://www.listeso.com/concert/2025-12-19-st-anns-academy-and-auditorium-national-historic-site-candlelight-christmas-special-featuring-the-nutcracker-and-more/
LOCATION:St Ann’s Academy and Auditorium National Historic Site\, Victoria\, Canada
CATEGORIES:Victoria, BC
ATTACH;FMTTYPE=image/jpeg:https://www.listeso.com/wp-content/uploads/2025/10/cc249c18-3fba-11f0-bfde-cebdfc678a0e-lr2vPQ.jpg
END:VEVENT
BEGIN:VEVENT
DTSTART;TZID=America/Vancouver:20251218T203000
DTEND;TZID=America/Vancouver:20251218T213000
DTSTAMP:20260421T151955
CREATED:20251123T120351Z
LAST-MODIFIED:20251123T120351Z
UID:10007349-1766089800-1766093400@www.listeso.com
SUMMARY:Candlelight: Christmas Special Featuring "The Nutcracker" & More
DESCRIPTION:Overview\nCandlelight concerts bring the magic of a live\, multi-sensory musical experience to awe-inspiring locations like never seen before in Victoria. Get your tickets now to discover music inspired by the winter and the holiday spirit at St Ann’s Academy and Auditorium National Historic Site under the gentle glow of candlelight. \nGeneral Info\n\n📍 Venue: St Ann’s Academy and Auditorium National Historic Site\n⏳ Duration: 60 minutes. Doors open 30 minutes before the show and close 5 minutes prior to the start. Late arrivals will not be permitted\n👤 Age requirement: 8 years old or older. Anyone under the age of 16 must be accompanied by an adult\n♿ Accessibility: This venue is accessible for people with reduced mobility\n🪑 Seating: Seating is assigned on a first come first served basis in each zone\n\nTentative Program\n\nHoliday Medley – Various (Hark the Herald Angels Sing\, The First Noël\, Deck the Halls)\nO Holy Night – Adolphe Adam\nMa’oz Tzur – Traditional Hanukkah Song\nThe Snow is Dancing – Claude Debussy\nThe Seasons\, Op. 37a – Pyotr Ilyich Tchaikovsky (I. January. By the Hearth\, XII. December. Christmas)\nThe Skaters Waltz\, Op. 183 (Les Patineurs) – Émile Waldteufel\nGreensleeves (What Child is This) – Traditional\nHoliday Medley (Joy to the World\, Angels We Have Heard on High\, Away in a Manger)\nThe Nutcracker\, Op. 71 – Pyotr Ilyich Tchaikovsky (Miniature Overture\, March\, Trepak Russian Dance\, Waltz of the Flowers\, Dance of the Sugar Plum Fairy)\n\nPerformers\n🎻 String Quartet: 2 violins\, 1 viola\, 1 cello \nBook a Private Event\nLooking to create an unforgettable experience for your wedding\, or special occasion? We offer private event bookings with customized programs tailored to your needs. \nGet a quote
URL:https://www.listeso.com/concert/2025-12-18-st-anns-academy-and-auditorium-national-historic-site-candlelight-christmas-special-featuring-the-nutcracker-and-more/
LOCATION:St Ann’s Academy and Auditorium National Historic Site\, Victoria\, Canada
CATEGORIES:Victoria, BC
ATTACH;FMTTYPE=image/jpeg:https://www.listeso.com/wp-content/uploads/2025/10/cc249c18-3fba-11f0-bfde-cebdfc678a0e-lr2vPQ.jpg
END:VEVENT
BEGIN:VEVENT
DTSTART;TZID=America/Vancouver:20251205T183000
DTEND;TZID=America/Vancouver:20251205T193000
DTSTAMP:20260421T151955
CREATED:20251112T122700Z
LAST-MODIFIED:20251112T122700Z
UID:10006964-1764959400-1764963000@www.listeso.com
SUMMARY:Candlelight: Coldplay & Imagine Dragons
DESCRIPTION:Overview\nCandlelight concerts bring the magic of a live\, multi-sensory musical experience to awe-inspiring locations like never seen before in Victoria. Get your tickets now to discover the music of Coldplay & Imagine Dragons at Christ Church Cathedral (Victoria) under the gentle glow of candlelight. \nGeneral Info\n\n📍 Venue: Christ Church Cathedral (Victoria)\n📅 Dates and times: select your dates/times directly in the ticket selector\n⏳ Duration: 60 minutes. Doors open 45 minutes before the show and close 5 minutes prior to the start. Late arrivals will not be permitted\n👤 Age requirement: 8 years old or older. Anyone under the age of 16 must be accompanied by an adult\n♿ Accessibility: this venue is accessible for people with reduced mobility\n🪑 Seating: Seating is assigned on a first come first served basis in each zone\n\nTentative Program\n\nColdplay – Clocks\nColdplay – Something Just Like This\nImagine Dragons – Radioactive\nColdplay – Adventure of a Lifetime\nColdplay – Fix You\nImagine Dragons – Eyes Closed\nImagine Dragons – Nice to Meet You\nColdplay – The Scientist\nImagine Dragons – Follow You\nImagine Dragons – Bad Liar\nColdplay – Viva la Vida\nImagine Dragons – Believer\nColdplay – Sky Full of Stars\n\nPerformers\n🎻 Listeso String Quartet \nBook a Private Event\nLooking to create an unforgettable experience for your wedding\, or special occasion? We offer private event bookings with customized programs tailored to your needs. \nGet a quote
URL:https://www.listeso.com/concert/2025-12-05-christ-church-cathedral-coldplay-imagine-dragons/
LOCATION:Christ Church Cathedral\, Vancouver\, Canada
CATEGORIES:Victoria, BC
ATTACH;FMTTYPE=image/jpeg:https://www.listeso.com/wp-content/uploads/2025/10/53777c04-1157-11f0-bc63-0ee885ccc32f-5sEo1f.jpg
END:VEVENT
BEGIN:VEVENT
DTSTART;TZID=America/Vancouver:20251115T203000
DTEND;TZID=America/Vancouver:20251115T213000
DTSTAMP:20260421T151955
CREATED:20251007T110818Z
LAST-MODIFIED:20251007T110818Z
UID:10005570-1763238600-1763242200@www.listeso.com
SUMMARY:Candlelight: Coldplay & Imagine Dragons
DESCRIPTION:Overview\nCandlelight concerts bring the magic of a live\, multi-sensory musical experience to awe-inspiring locations like never seen before in Victoria. Get your tickets now to discover the music of Coldplay & Imagine Dragons at Christ Church Cathedral (Victoria) under the gentle glow of candlelight. \nGeneral Info\n\n📍 Venue: Christ Church Cathedral (Victoria)\n⏳ Duration: 60 minutes. Doors open 45 minutes before the show and close 5 minutes prior to the start. Late arrivals will not be permitted\n👤 Age requirement: 8 years old or older. Anyone under the age of 16 must be accompanied by an adult\n♿ Accessibility: This venue is accessible for people with reduced mobility\n🪑 Seating: Seating is assigned on a first come first served basis in each zone\n\nTentative Program\n\nColdplay – Clocks\nColdplay – Something Just Like This\nImagine Dragons – Radioactive\nColdplay – Adventure of a Lifetime\nColdplay – Fix You\nImagine Dragons – Eyes Closed\nImagine Dragons – Nice to Meet You\nColdplay – The Scientist\nImagine Dragons – Follow You\nImagine Dragons – Bad Liar\nColdplay – Viva la Vida\nImagine Dragons – Believer\nColdplay – Sky Full of Stars\n\nPerformers\n🎻 Listeso String Quartet \nBook a Private Event\nLooking to create an unforgettable experience for your wedding\, or special occasion? We offer private event bookings with customized programs tailored to your needs. \nGet a quote
URL:https://www.listeso.com/concert/2025-11-15-christ-church-cathedral-coldplay-imagine-dragons/
LOCATION:Christ Church Cathedral\, Vancouver\, Canada
CATEGORIES:Victoria, BC
ATTACH;FMTTYPE=image/jpeg:https://www.listeso.com/wp-content/uploads/2025/10/53777c04-1157-11f0-bc63-0ee885ccc32f-5sEo1f.jpg
END:VEVENT
BEGIN:VEVENT
DTSTART;TZID=America/Vancouver:20251031T204500
DTEND;TZID=America/Vancouver:20251031T214500
DTSTAMP:20260421T151955
CREATED:20251007T110804Z
LAST-MODIFIED:20251007T110804Z
UID:10005569-1761943500-1761947100@www.listeso.com
SUMMARY:Candlelight: Tribute to Taylor Swift
DESCRIPTION:Overview\nCandlelight concerts bring the magic of a live\, multi-sensory musical experience to awe-inspiring locations like never seen before in Victoria. Get your tickets now to discover the music of Taylor Swift at St. Ann’s Academy and Auditorium National Historic Site under the gentle glow of candlelight. \nGeneral Info\n\n📍 Venue: St. Ann’s Academy and Auditorium National Historic Site\n⏳ Duration: 60 minutes. Doors open 30 minutes before the show and close 5 minutes prior to the start. Late arrivals will not be permitted\n👤 Age requirement: 8 years old or older. Anyone under the age of 16 must be accompanied by an adult\n♿ Accessibility: This venue is accessible for people with reduced mobility\n🪑 Seating: Seating is assigned on a first come first served basis in each zone\n\nTentative Program\n\nShake It Off\nRed Medley\nEnchanted\n1989 Medley\nAnti Hero\nBlank Space\nReputation Medley\nI Can Do It With a Broken Heart\nFolklore Medley\nEvermore Medley\nCruel Summer\nYou Belong with Me\n\nPerformers\n🎻 Listeso String Quartet \nBook a Private Event\nLooking to create an unforgettable experience for your wedding\, or special occasion? We offer private event bookings with customized programs tailored to your needs. \nGet a quote
URL:https://www.listeso.com/concert/2025-10-31-st-anns-academy-and-auditorium-national-historic-site-tribute-to-taylor-swift/
LOCATION:St. Ann’s Academy and Auditorium National Historic Site\, Victoria\, Canada
CATEGORIES:Victoria, BC
ATTACH;FMTTYPE=image/jpeg:https://www.listeso.com/wp-content/uploads/2025/10/be8df194-1aa8-11f0-996c-caa78636736f-kgBvpB.jpg
END:VEVENT
BEGIN:VEVENT
DTSTART;TZID=America/Vancouver:20251024T183000
DTEND;TZID=America/Vancouver:20251024T193000
DTSTAMP:20260421T151955
CREATED:20251007T110751Z
LAST-MODIFIED:20251007T110751Z
UID:10005568-1761330600-1761334200@www.listeso.com
SUMMARY:Candlelight: A Haunted Evening of Halloween Classics
DESCRIPTION:Overview\nCandlelight concerts bring the magic of a live\, multi-sensory musical experience to awe-inspiring locations like never seen before in Victoria. Get your tickets now to discover the music of Halloween Classics at Christ Church Cathedral (Victoria) under the gentle glow of candlelight. \nGeneral Info\n\n📍 Venue: Christ Church Cathedral (Victoria)\n⏳ Duration: 60 minutes. Doors open 45 minutes before the show and close 5 minutes prior to the start. Late arrivals will not be permitted\n👤 Age requirement: 8 years old or older. Anyone under the age of 16 must be accompanied by an adult\n♿ Accessibility: This venue is accessible for people with reduced mobility\n🪑 Seating: Seating is assigned on a first come first served basis in each zone\n\nTentative Program\n\nThriller – Michael Jackson\nFuneral March of a Marionette – Charles Gounod\nString Quartet No. 8 in C Minor (Dresden Quartet)\, Op. 110: II. Allegro Molto – Dmitri Shostakovich\nTubular Bells (Theme from The Exorcist) – Mike Oldfield\nStranger Things (Theme) – S U R V I V E\nBeetlejuice (Theme) – Danny Elfman\nThe Addams Family (Theme) – Vic Mizzy\nHalloween (Theme) – John Carpenter\nPsycho (Prelude) – Bernard Herrmann\nGhostbusters (Theme) – Ray Parker Jr.\nDanse Macabre – Camille Saint-Saëns\nNight on Bald Mountain – Modest Mussorgsky\nDer Erlkönig – Franz Schubert\nMedley from The Nightmare Before Christmas – Danny Elfman\nIn the Hall of the Mountain King – Edvard Grieg\n\nPerformers\n🎻 Listeso String Quartet \nBook a Private Event\nLooking to create an unforgettable experience for your wedding\, or special occasion? We offer private event bookings with customized programs tailored to your needs. \nGet a quote
URL:https://www.listeso.com/concert/2025-10-24-christ-church-cathedral-a-haunted-evening-of-halloween-classics/
LOCATION:Christ Church Cathedral\, Vancouver\, Canada
CATEGORIES:Victoria, BC
ATTACH;FMTTYPE=image/jpeg:https://www.listeso.com/wp-content/uploads/2025/09/1662dff2-3f8d-11f0-8680-eaa359e93904-AhayBh.jpg
END:VEVENT
END:VCALENDAR