BEGIN:VCALENDAR
VERSION:2.0
PRODID:-//Listeso Music Group - A Boutique String Quartet Agency - ECPv6.15.20//NONSGML v1.0//EN
CALSCALE:GREGORIAN
METHOD:PUBLISH
X-WR-CALNAME:Listeso Music Group - A Boutique String Quartet Agency
X-ORIGINAL-URL:https://www.listeso.com
X-WR-CALDESC:Events for Listeso Music Group - A Boutique String Quartet Agency
REFRESH-INTERVAL;VALUE=DURATION:PT1H
X-Robots-Tag:noindex
X-PUBLISHED-TTL:PT1H
BEGIN:VTIMEZONE
TZID:America/Phoenix
BEGIN:STANDARD
TZOFFSETFROM:-0700
TZOFFSETTO:-0700
TZNAME:MST
DTSTART:20240101T000000
END:STANDARD
END:VTIMEZONE
BEGIN:VEVENT
DTSTART;TZID=America/Phoenix:20260314T204500
DTEND;TZID=America/Phoenix:20260314T214500
DTSTAMP:20260422T091526
CREATED:20260225T123956Z
LAST-MODIFIED:20260225T123956Z
UID:10008565-1773521100-1773524700@www.listeso.com
SUMMARY:Candlelight: Tribute to Queen vs. ABBA
DESCRIPTION:Overview\nCandlelight concerts bring the magic of a live\, multi-sensory musical experience to awe-inspiring locations like never seen before in Tucson. Get your tickets now to discover the music of Queen vs. ABBA at Grace St Paul’s Episcopal Church under the gentle glow of candlelight. \nGeneral Info\n\n📍 Venue: Grace St Paul’s Episcopal Church\n⏳ Duration: 60 minutes. Doors open 45 minutes before the show. No entry once it starts.\n👤 Age requirement: 8 years old or older. Anyone under the age of 16 must be accompanied by an adult\n♿ Accessibility: This venue is ADA compliant\n🪑 Seating: Seating is assigned on a first come first served basis in each zone\n\nTentative Program\n\nDancing Queen\nSOS\nMoney\, Money\, Money\nVoulez Vous\nBohemian Rhapsody\nI Want to Break Free\nKiller Queen\nWaterloo\nSuper Trouper\nMamma Mia\nDon’t Stop Me Now\nWe Will Rock You\nWe Are the Champions\nGimme Gimme Gimme\n\nPerformers\n🎻 Listeso String Quartet \nBook a Private Event\nLooking to create an unforgettable experience for your wedding\, or special occasion? We offer private event bookings with customized programs tailored to your needs. \nGet a quote
URL:https://www.listeso.com/concert/2026-03-14-grace-st-pauls-episcopal-church-tribute-to-queen-vs-abba/
LOCATION:Grace St. Paul’s Episcopal Church\, Tucson\, AZ\, United States
CATEGORIES:Tucson, AZ
ATTACH;FMTTYPE=image/jpeg:https://www.listeso.com/wp-content/uploads/2025/10/66cd0d5a-1945-11f0-b4e1-16541c266220-gop1t7.jpg
END:VEVENT
BEGIN:VEVENT
DTSTART;TZID=America/Phoenix:20260314T190000
DTEND;TZID=America/Phoenix:20260314T200000
DTSTAMP:20260422T091526
CREATED:20260225T123943Z
LAST-MODIFIED:20260225T123943Z
UID:10008564-1773514800-1773518400@www.listeso.com
SUMMARY:Candlelight: Coldplay vs. Imagine Dragons
DESCRIPTION:Overview\nCandlelight concerts bring the magic of a live\, multi-sensory musical experience to awe-inspiring locations like never seen before in Tucson. Get your tickets now to discover the music of Coldplay vs. Imagine Dragons at Grace St Paul’s Episcopal Church under the gentle glow of candlelight. \nGeneral Info\n\n⏳ Duration: 60 minutes. Doors open 45 minutes before the show. No entry once it starts.\n👤 Age requirement: 8 years old or older. Anyone under the age of 16 must be accompanied by an adult\n♿ Accessibility: This venue is ADA compliant\n🪑 Seating: Seating is assigned on a first come first served basis in each zone\n\nProgram\n\nColdplay – Clocks\nImagine Dragons – Radioactive\nColdplay – Adventure of a Lifetime\nColdplay – Fix You\nImagine Dragons – Eyes Closed\nImagine Dragons – Nice to Meet You\nColdplay – The Scientist\nColdplay – feelslikeimfallinginlove\nImagine Dragons – Follow You\nImagine Dragons – Bad Liar\nImagine Dragons – Believer\nColdplay – Sky Full of Stars\nColdplay – Viva la Vida\nColdplay – My Universe\n\nPerformers\n🎻 Listeso String Quartet \nBook a Private Event\nLooking to create an unforgettable experience for your wedding\, or special occasion? We offer private event bookings with customized programs tailored to your needs. \nGet a quote
URL:https://www.listeso.com/concert/2026-03-14-grace-st-pauls-episcopal-church-coldplay-vs-imagine-dragons/
LOCATION:Grace St. Paul’s Episcopal Church\, Tucson\, AZ\, United States
CATEGORIES:Tucson, AZ
ATTACH;FMTTYPE=image/jpeg:https://www.listeso.com/wp-content/uploads/2025/10/55ef9d82-1156-11f0-b5b0-0ee885ccc32f-OlscRd.jpg
END:VEVENT
BEGIN:VEVENT
DTSTART;TZID=America/Phoenix:20260116T203000
DTEND;TZID=America/Phoenix:20260116T213000
DTSTAMP:20260422T091526
CREATED:20251119T123855Z
LAST-MODIFIED:20251119T123855Z
UID:10007250-1768595400-1768599000@www.listeso.com
SUMMARY:Candlelight: Coldplay vs. Imagine Dragons
DESCRIPTION:Overview\nCandlelight concerts bring the magic of a live\, multi-sensory musical experience to awe-inspiring locations like never seen before in Tucson. Get your tickets now to discover the music of Coldplay vs. Imagine Dragons at Grace St Paul’s Episcopal Church under the gentle glow of candlelight. \nGeneral Info\n\n📍 Venue: Grace St Paul’s Episcopal Church\n⏳ Duration: 60 minutes. Doors open 45 minutes before the show and close 5 minutes prior to the start. Late arrivals will not be permitted\n👤 Age requirement: 8 years old or older. Anyone under the age of 16 must be accompanied by an adult\n♿ Accessibility: This venue is ADA compliant\n🪑 Seating: Seating is assigned on a first come first served basis in each zone\n\nTentative Program\n\nColdplay – Clocks\nColdplay – Something Just Like This\nImagine Dragons – Radioactive\nColdplay – Adventure of a Lifetime\nColdplay – Fix You\nImagine Dragons – Eyes Closed\nImagine Dragons – Nice to Meet You\nColdplay – The Scientist\nColdplay – feelslikeimfallinginlove\nImagine Dragons – Follow You\nImagine Dragons – Bad Liar\nColdplay – Viva la Vida\nImagine Dragons – Believer\nColdplay – Sky Full of Stars\n\nPerformers\n🎻 Listeso String Quartet \nBook a Private Event\nLooking to create an unforgettable experience for your wedding\, or special occasion? We offer private event bookings with customized programs tailored to your needs. \nGet a quote
URL:https://www.listeso.com/concert/2026-01-16-grace-st-pauls-episcopal-church-coldplay-vs-imagine-dragons/
LOCATION:Grace St. Paul’s Episcopal Church\, Tucson\, AZ\, United States
CATEGORIES:Tucson, AZ
ATTACH;FMTTYPE=image/jpeg:https://www.listeso.com/wp-content/uploads/2025/10/55ef9d82-1156-11f0-b5b0-0ee885ccc32f-OlscRd.jpg
END:VEVENT
BEGIN:VEVENT
DTSTART;TZID=America/Phoenix:20251219T190000
DTEND;TZID=America/Phoenix:20251219T200000
DTSTAMP:20260422T091526
CREATED:20251112T122500Z
LAST-MODIFIED:20251112T122500Z
UID:10006956-1766170800-1766174400@www.listeso.com
SUMMARY:Candlelight: Christmas Carols on Strings
DESCRIPTION:Overview\nCandlelight concerts bring the magic of a live\, multi-sensory musical experience to awe-inspiring locations like never seen before in Tucson. Get your tickets now to discover the music of Christmas Carols on Strings at Grace St Paul’s Episcopal Church under the gentle glow of candlelight. \nGeneral Info\n\n📍 Venue: Grace St Paul’s Episcopal Church\n⏳ Duration: 60 minutes. Doors open 45 minutes before the show and close 5 minutes prior to the start. Late arrivals will not be permitted\n👤 Age requirement: 8 years old or older. Anyone under the age of 16 must be accompanied by an adult\n♿ Accessibility: This venue is ADA compliant\n🪑 Seating: Seating is assigned on a first come first served basis in each zone\n\nTentative Program\n\n12 Days of Christmas\nAngels from the Realms of Glory\nAngels We Have Heard On High\nAway in a Manger\nCarol of the Bells\nDeck the Halls\nDing Dong! Merrily on High\nDo You Hear What I Hear\nGod Rest Ye Merry Gentlemen\nGood King Wenceslas\nGreensleeves (What Child Is This)\nHark! The Herald Angels Sing\nIn the Bleak Mid-Winter\nJoy to the World\nO Christmas Tree (O Tannenbaum)\nO Come All Ye Faithful\nO Holy Night\nO Little Town of Bethlehem\nSilent Night\nThe First Noël\n\nPerformers\n🎻 String Quartet – Listeso – Tucson \nBook a Private Event\nLooking to create an unforgettable experience for your wedding\, or special occasion? We offer private event bookings with customized programs tailored to your needs. \nGet a quote
URL:https://www.listeso.com/concert/2025-12-19-grace-st-pauls-episcopal-church-christmas-carols-on-strings/
LOCATION:Grace St. Paul’s Episcopal Church\, Tucson\, AZ\, United States
CATEGORIES:Tucson, AZ
ATTACH;FMTTYPE=image/jpeg:https://www.listeso.com/wp-content/uploads/2025/10/fe5444ee-3f93-11f0-a5a4-6ee326aa2bcb-P5uz7k.jpg
END:VEVENT
BEGIN:VEVENT
DTSTART;TZID=America/Phoenix:20251129T204500
DTEND;TZID=America/Phoenix:20251129T214500
DTSTAMP:20260422T091526
CREATED:20251016T111922Z
LAST-MODIFIED:20251016T111922Z
UID:10005829-1764449100-1764452700@www.listeso.com
SUMMARY:Candlelight: Tribute to Juan Gabriel
DESCRIPTION:Overview\nCandlelight concerts bring the magic of a live\, multi-sensory musical experience to awe-inspiring locations like never seen before in Tucson. Get your tickets now to discover the music of Juan Gabriel at Grace St Paul’s Episcopal Church under the gentle glow of candlelight. \nGeneral Info\n\n⏳ Duration: 60 minutes. Doors open 45 minutes before the show and close 5 minutes prior to the start. Late arrivals will not be permitted\n👤 Age requirement: 8 years old or older. Anyone under the age of 16 must be accompanied by an adult\n♿ Accessibility: This venue is ADA compliant\n🪑 Seating: Seating is assigned on a first come first served basis in each zone\n\nTentative Program\n\nBuenos Días Señor Sol\nAsí Fue\nAbrázame Muy Fuerte\nLa Diferencia\nQuerida\nNo Tengo Dinero\nPor Qué Me Haces Llorar\nSiempre en Mi Mente\nAmor Eterno\nPero Qué Necesidad\nEl Noa Noa\nCaray\n\nPerformers\n🎻 String Quartet – Listeso – Tucson \nBook a Private Event\nLooking to create an unforgettable experience for your wedding\, or special occasion? We offer private event bookings with customized programs tailored to your needs. \nGet a quote
URL:https://www.listeso.com/concert/2025-11-29-grace-st-pauls-episcopal-church-tribute-to-juan-gabriel/
LOCATION:Grace St. Paul’s Episcopal Church\, Tucson\, AZ\, United States
CATEGORIES:Tucson, AZ
ATTACH;FMTTYPE=image/jpeg:https://www.listeso.com/wp-content/uploads/2025/10/898fe864-0a25-11f0-bbae-0a233031e956-cKa8yF.jpg
END:VEVENT
BEGIN:VEVENT
DTSTART;TZID=America/Phoenix:20251129T190000
DTEND;TZID=America/Phoenix:20251129T200000
DTSTAMP:20260422T091526
CREATED:20251016T111936Z
LAST-MODIFIED:20251016T111936Z
UID:10005830-1764442800-1764446400@www.listeso.com
SUMMARY:Candlelight: Queen vs. ABBA
DESCRIPTION:Overview\nCandlelight concerts bring the magic of a live\, multi-sensory musical experience to awe-inspiring locations like never seen before in Tucson. Get your tickets now to discover the music of Queen vs. ABBA at Grace St Paul’s Episcopal Church under the gentle glow of candlelight. \nGeneral Info\n\n📍 Venue: Grace St Paul’s Episcopal Church\n⏳ Duration: 60 minutes. Doors open 45 minutes before the show and close 5 minutes prior to the start. Late arrivals will not be permitted\n👤 Age requirement: 8 years old or older. Anyone under the age of 16 must be accompanied by an adult\n♿ Accessibility: This venue is ADA compliant\n🪑 Seating: Seating is assigned on a first come first served basis in each zone\n\nTentative Program\n\nDancing Queen – ABBA\nSOS – ABBA\nMoney\, Money\, Money – ABBA\nBohemian Rhapsody – Queen\nI Want to Break Free – Queen\nWaterloo – ABBA\nSuper Trouper – ABBA\nMamma Mia – ABBA\nDon’t Stop Me Now – Queen\nWe Will Rock You – Queen\nWe Are the Champions – Queen\n\nPerformers\n🎻 Listeso String Quartet \nBook a Private Event\nLooking to create an unforgettable experience for your wedding\, or special occasion? We offer private event bookings with customized programs tailored to your needs. \nGet a quote
URL:https://www.listeso.com/concert/2025-11-29-grace-st-pauls-episcopal-church-candlelight-queen-vs-abba/
LOCATION:Grace St. Paul’s Episcopal Church\, Tucson\, AZ\, United States
CATEGORIES:Tucson, AZ
ATTACH;FMTTYPE=image/jpeg:https://www.listeso.com/wp-content/uploads/2025/10/66cd0d5a-1945-11f0-b4e1-16541c266220-gop1t7.jpg
END:VEVENT
BEGIN:VEVENT
DTSTART;TZID=America/Phoenix:20251115T204500
DTEND;TZID=America/Phoenix:20251115T214500
DTSTAMP:20260422T091526
CREATED:20251016T111855Z
LAST-MODIFIED:20251016T111855Z
UID:10005827-1763239500-1763243100@www.listeso.com
SUMMARY:Candlelight: Tribute to Juan Gabriel
DESCRIPTION:Overview\nCandlelight concerts bring the magic of a live\, multi-sensory musical experience to awe-inspiring locations like never seen before in Tucson. Get your tickets now to discover the music of Juan Gabriel at Grace St Paul’s Episcopal Church under the gentle glow of candlelight. \nGeneral Info\n\n⏳ Duration: 60 minutes. Doors open 45 minutes before the show and close 5 minutes prior to the start. Late arrivals will not be permitted\n👤 Age requirement: 8 years old or older. Anyone under the age of 16 must be accompanied by an adult\n♿ Accessibility: This venue is ADA compliant\n🪑 Seating: Seating is assigned on a first come first served basis in each zone\n\nTentative Program\n\nBuenos Días Señor Sol\nAsí Fue\nAbrázame Muy Fuerte\nLa Diferencia\nQuerida\nNo Tengo Dinero\nPor Qué Me Haces Llorar\nSiempre en Mi Mente\nAmor Eterno\nPero Qué Necesidad\nEl Noa Noa\nCaray\n\nPerformers\n🎻 String Quartet – Listeso – Tucson \nBook a Private Event\nLooking to create an unforgettable experience for your wedding\, or special occasion? We offer private event bookings with customized programs tailored to your needs. \nGet a quote
URL:https://www.listeso.com/concert/2025-11-15-grace-st-pauls-episcopal-church-tribute-to-juan-gabriel/
LOCATION:Grace St. Paul’s Episcopal Church\, Tucson\, AZ\, United States
CATEGORIES:Tucson, AZ
ATTACH;FMTTYPE=image/jpeg:https://www.listeso.com/wp-content/uploads/2025/10/898fe864-0a25-11f0-bbae-0a233031e956-cKa8yF.jpg
END:VEVENT
BEGIN:VEVENT
DTSTART;TZID=America/Phoenix:20251107T190000
DTEND;TZID=America/Phoenix:20251107T200000
DTSTAMP:20260422T091526
CREATED:20251006T175802Z
LAST-MODIFIED:20251006T175802Z
UID:10005534-1762542000-1762545600@www.listeso.com
SUMMARY:Candlelight: Coldplay vs. Imagine Dragons
DESCRIPTION:Overview\nCandlelight concerts bring the magic of a live\, multi-sensory musical experience to awe-inspiring locations like never seen before in Tucson. Get your tickets now to discover the music of Coldplay vs. Imagine Dragons at Grace St Paul’s Episcopal Church under the gentle glow of candlelight. \nGeneral Info\n\n📍 Venue: Grace St Paul’s Episcopal Church\n⏳ Duration: 60 minutes. Doors open 45 minutes before the show and close 5 minutes prior to the start. Late arrivals will not be permitted\n👤 Age requirement: 8 years old or older. Anyone under the age of 16 must be accompanied by an adult\n♿ Accessibility: This venue is ADA compliant\n🪑 Seating: Seating is assigned on a first come first served basis in each zone\n\nTentative Program\n\nColdplay – Clocks\nColdplay – Something Just Like This\nImagine Dragons – Radioactive\nColdplay – Adventure of a Lifetime\nColdplay – Fix You\nImagine Dragons – Eyes Closed\nImagine Dragons – Nice to Meet You\nColdplay – The Scientist\nColdplay – feelslikeimfallinginlove\nImagine Dragons – Follow You\nImagine Dragons – Bad Liar\nColdplay – Viva la Vida\nImagine Dragons – Believer\nColdplay – Sky Full of Stars\n\nPerformers\n🎻 Listeso String Quartet \nBook a Private Event\nLooking to create an unforgettable experience for your wedding\, or special occasion? We offer private event bookings with customized programs tailored to your needs. \nGet a quote
URL:https://www.listeso.com/concert/2025-11-07-grace-st-pauls-episcopal-church-coldplay-vs-imagine-dragons/
LOCATION:Grace St. Paul’s Episcopal Church\, Tucson\, AZ\, United States
CATEGORIES:Tucson, AZ
ATTACH;FMTTYPE=image/jpeg:https://www.listeso.com/wp-content/uploads/2025/10/55ef9d82-1156-11f0-b5b0-0ee885ccc32f-OlscRd.jpg
END:VEVENT
BEGIN:VEVENT
DTSTART;TZID=America/Phoenix:20251025T190000
DTEND;TZID=America/Phoenix:20251025T200000
DTSTAMP:20260422T091526
CREATED:20251006T175749Z
LAST-MODIFIED:20251006T175749Z
UID:10005533-1761418800-1761422400@www.listeso.com
SUMMARY:Candlelight: A Haunted Evening of Halloween Classics
DESCRIPTION:Overview\nCandlelight concerts bring the magic of a live\, multi-sensory musical experience to awe-inspiring locations like never seen before in Tucson. Get your tickets now to discover Halloween-inspired music at Grace St. Paul’s Episcopal Church under the gentle glow of candlelight. \nGeneral Info\n\n📍 Venue: Grace St. Paul’s Episcopal Church\n⏳ Duration: 65 minutes. Doors open 45 minutes before the show and close 5 minutes prior to the start. Late arrivals will not be permitted\n👤 Age requirement: 8 years old or older. Anyone under the age of 16 must be accompanied by an adult\n♿ Accessibility: This venue is ADA compliant\n🪑 Seating: Seating is assigned on a first come first served basis in each zone\n\nTentative Program\n\nThriller – Michael Jackson\nFuneral March of a Marionette – Charles Gounod\nString Quartet No. 8 in C Minor (Dresden Quartet)\, Op. 110: II. Allegro Molto – Dmitri Shostakovich\nTubular Bells (Theme from The Exorcist) – Mike Oldfield\nStranger Things (Theme) – S U R V I V E\nBeetlejuice (Theme) – Danny Elfman\nThe Addams Family (Theme) – Vic Mizzy\nHalloween (Theme) – John Carpenter\nPsycho (Prelude) – Bernard Herrmann\nGhostbusters (Theme) – Ray Parker Jr.\nDanse Macabre – Camille Saint-Saëns\nNight on Bald Mountain – Modest Mussorgsky\nDer Erlkönig – Franz Schubert\nMedley from The Nightmare Before Christmas – Danny Elfman\nIn the Hall of the Mountain King – Edvard Grieg\n\nPerformers\n🎻 Listeso String Quartet \nBook a Private Event\nLooking to create an unforgettable experience for your wedding\, or special occasion? We offer private event bookings with customized programs tailored to your needs. \nGet a quote
URL:https://www.listeso.com/concert/2025-10-25-grace-st-pauls-episcopal-church-a-haunted-evening-of-halloween-classics/
LOCATION:Grace St. Paul’s Episcopal Church\, Tucson\, AZ\, United States
CATEGORIES:Tucson, AZ
ATTACH;FMTTYPE=image/jpeg:https://www.listeso.com/wp-content/uploads/2025/10/1a661c78-3f8c-11f0-b643-4ae46096aea3-vChLus.jpg
END:VEVENT
BEGIN:VEVENT
DTSTART;TZID=America/Phoenix:20251017T204500
DTEND;TZID=America/Phoenix:20251017T214500
DTSTAMP:20260422T091526
CREATED:20251006T175722Z
LAST-MODIFIED:20251006T175722Z
UID:10005531-1760733900-1760737500@www.listeso.com
SUMMARY:Candlelight: Queen vs. ABBA
DESCRIPTION:Overview\nCandlelight concerts bring the magic of a live\, multi-sensory musical experience to awe-inspiring locations like never seen before in Tucson. Get your tickets now to discover the music of Queen vs. ABBA at Grace St Paul’s Episcopal Church under the gentle glow of candlelight. \nGeneral Info\n\n📍 Venue: Grace St Paul’s Episcopal Church\n⏳ Duration: 60 minutes. Doors open 45 minutes before the show and close 5 minutes prior to the start. Late arrivals will not be permitted\n👤 Age requirement: 8 years old or older. Anyone under the age of 16 must be accompanied by an adult\n♿ Accessibility: This venue is ADA compliant\n🪑 Seating: Seating is assigned on a first come first served basis in each zone\n\nTentative Program\n\nDancing Queen – ABBA\nSOS – ABBA\nMoney\, Money\, Money – ABBA\nBohemian Rhapsody – Queen\nI Want to Break Free – Queen\nWaterloo – ABBA\nSuper Trouper – ABBA\nMamma Mia – ABBA\nDon’t Stop Me Now – Queen\nWe Will Rock You – Queen\nWe Are the Champions – Queen\n\nPerformers\n🎻 Listeso String Quartet \nBook a Private Event\nLooking to create an unforgettable experience for your wedding\, or special occasion? We offer private event bookings with customized programs tailored to your needs. \nGet a quote
URL:https://www.listeso.com/concert/2025-10-17-grace-st-pauls-episcopal-church-queen-vs-abba/
LOCATION:Grace St. Paul’s Episcopal Church\, Tucson\, AZ\, United States
CATEGORIES:Tucson, AZ
ATTACH;FMTTYPE=image/jpeg:https://www.listeso.com/wp-content/uploads/2025/10/66cd0d5a-1945-11f0-b4e1-16541c266220-gop1t7.jpg
END:VEVENT
BEGIN:VEVENT
DTSTART;TZID=America/Phoenix:20251017T190000
DTEND;TZID=America/Phoenix:20251017T200000
DTSTAMP:20260422T091526
CREATED:20251006T175735Z
LAST-MODIFIED:20251006T175735Z
UID:10005532-1760727600-1760731200@www.listeso.com
SUMMARY:Candlelight: Rings and Dragons
DESCRIPTION:Overview\nCandlelight concerts bring the magic of a live\, multi-sensory musical experience to awe-inspiring locations like never seen before in Tucson. Get your tickets now to discover the music of Rings and Dragons at Grace St Paul’s Episcopal Church under the gentle glow of candlelight. \nGeneral Info\n\n📍 Venue: Grace St Paul’s Episcopal Church\n⏳ Duration: 60 minutes. Doors open 45 minutes before the show and close 5 minutes prior to the start. Late arrivals will not be permitted\n👤 Age requirement: 8 years old or older. Anyone under the age of 16 must be accompanied by an adult\n♿ Accessibility: this venue is ADA compliant\n🪑 Seating: Seating is assigned on a first come first served basis in each zone\n\nTentative Program\n\nThemes from The Lord of the Rings by Howard Shore\nThe Shire\nGollum\nThe Caverns of Isengard\nFlaming Red Hair\nThe Passing of the Elves\nSaruman the White\nRivendell\nLighting of the Beacons\nThe Sacrifice of Faramir\nThe Grace of Undómiel\nThemes from Game of Thrones by Ramin Djawadi\nGame of Thrones Main Theme\nFire and Blood\nRains of Castamere\nLight of the Seven\nBastard (Part II)\n\nPerformers\n🎻 String Quartet – Listeso – Tucson \nBook a Private Event\nLooking to create an unforgettable experience for your wedding\, or special occasion? We offer private event bookings with customized programs tailored to your needs. \nGet a quote
URL:https://www.listeso.com/concert/2025-10-17-grace-st-pauls-episcopal-church-rings-and-dragons/
LOCATION:Grace St. Paul’s Episcopal Church\, Tucson\, AZ\, United States
CATEGORIES:Tucson, AZ
ATTACH;FMTTYPE=image/jpeg:https://www.listeso.com/wp-content/uploads/2025/10/56fd8288-408c-11f0-90d3-661e8c2b7a0b-VtxvU3.jpg
END:VEVENT
BEGIN:VEVENT
DTSTART;TZID=America/Phoenix:20251011T190000
DTEND;TZID=America/Phoenix:20251011T200000
DTSTAMP:20260422T091526
CREATED:20251006T175709Z
LAST-MODIFIED:20251006T175709Z
UID:10005530-1760209200-1760212800@www.listeso.com
SUMMARY:Candlelight: Coldplay vs. Imagine Dragons
DESCRIPTION:Overview\nCandlelight concerts bring the magic of a live\, multi-sensory musical experience to awe-inspiring locations like never seen before in Tucson. Get your tickets now to discover the music of Coldplay vs. Imagine Dragons at Grace St Paul’s Episcopal Church under the gentle glow of candlelight. \nGeneral Info\n\n📍 Venue: Grace St Paul’s Episcopal Church\n⏳ Duration: 60 minutes. Doors open 45 minutes before the show and close 5 minutes prior to the start. Late arrivals will not be permitted\n👤 Age requirement: 8 years old or older. Anyone under the age of 16 must be accompanied by an adult\n♿ Accessibility: this venue is ADA compliant\n🪑 Seating: Seating is assigned on a first come first served basis in each zone\n\nTentative Program\n\nColdplay – Clocks\nColdplay – Something Just Like This\nImagine Dragons – Radioactive\nColdplay – Adventure of a Lifetime\nColdplay – Fix You\nImagine Dragons – Eyes Closed\nImagine Dragons – Nice to Meet You\nColdplay – The Scientist\nColdplay – feelslikeimfallinginlove\nImagine Dragons – Follow You\nImagine Dragons – Bad Liar\nColdplay – Viva la Vida\nImagine Dragons – Believer\nColdplay – Sky Full of Stars\n\nPerformers\n🎻 Listeso String Quartet \nBook a Private Event\nLooking to create an unforgettable experience for your wedding\, or special occasion? We offer private event bookings with customized programs tailored to your needs. \nGet a quote
URL:https://www.listeso.com/concert/2025-10-11-grace-st-pauls-episcopal-church-coldplay-vs-imagine-dragons/
LOCATION:Grace St. Paul’s Episcopal Church\, Tucson\, AZ\, United States
CATEGORIES:Tucson, AZ
ATTACH;FMTTYPE=image/jpeg:https://www.listeso.com/wp-content/uploads/2025/10/55ef9d82-1156-11f0-b5b0-0ee885ccc32f-OlscRd.jpg
END:VEVENT
END:VCALENDAR