BEGIN:VCALENDAR
VERSION:2.0
PRODID:-//Listeso Music Group - A Boutique String Quartet Agency - ECPv6.15.20//NONSGML v1.0//EN
CALSCALE:GREGORIAN
METHOD:PUBLISH
X-WR-CALNAME:Listeso Music Group - A Boutique String Quartet Agency
X-ORIGINAL-URL:https://www.listeso.com
X-WR-CALDESC:Events for Listeso Music Group - A Boutique String Quartet Agency
REFRESH-INTERVAL;VALUE=DURATION:PT1H
X-Robots-Tag:noindex
X-PUBLISHED-TTL:PT1H
BEGIN:VTIMEZONE
TZID:Europe/Paris
BEGIN:DAYLIGHT
TZOFFSETFROM:+0100
TZOFFSETTO:+0200
TZNAME:CEST
DTSTART:20250330T010000
END:DAYLIGHT
BEGIN:STANDARD
TZOFFSETFROM:+0200
TZOFFSETTO:+0100
TZNAME:CET
DTSTART:20251026T010000
END:STANDARD
BEGIN:DAYLIGHT
TZOFFSETFROM:+0100
TZOFFSETTO:+0200
TZNAME:CEST
DTSTART:20260329T010000
END:DAYLIGHT
BEGIN:STANDARD
TZOFFSETFROM:+0200
TZOFFSETTO:+0100
TZNAME:CET
DTSTART:20261025T010000
END:STANDARD
BEGIN:DAYLIGHT
TZOFFSETFROM:+0100
TZOFFSETTO:+0200
TZNAME:CEST
DTSTART:20270328T010000
END:DAYLIGHT
BEGIN:STANDARD
TZOFFSETFROM:+0200
TZOFFSETTO:+0100
TZNAME:CET
DTSTART:20271031T010000
END:STANDARD
END:VTIMEZONE
BEGIN:VEVENT
DTSTART;TZID=Europe/Paris:20260417T193000
DTEND;TZID=Europe/Paris:20260417T203000
DTSTAMP:20260422T124136
CREATED:20260314T112014Z
LAST-MODIFIED:20260314T112014Z
UID:10008940-1776454200-1776457800@www.listeso.com
SUMMARY:Candlelight : Ed Sheeran rencontre Coldplay
DESCRIPTION:Overview\nCandlelight t’offre des expériences musicales magiques dans de magnifiques lieux éclairés à la bougie. Profite de ce concert exceptionnel où les plus grands hits d’Ed Sheeran rencontrent ceux de Coldplay dans un cadre intimiste et chaleureux. \nGeneral Info\n\n📍 Lieu: Greniers Saint-Jean d’Angers\n⏳ Durée: 60 minutes environ. Les portes ouvrent 30 minutes avant le début du concert\n👤 Âge requis: À partir de 8 ans. Les spectateurs de moins de 16 ans doivent être accompagnés par un adulte\n♿ Accessibilité: Accès PMR disponible pour cet événement\n🪑 Placement: Les places sont assignées par ordre d’arrivée\, selon la catégorie réservée\n\nProgramme\n\nColdplay – Clocks\nColdplay – Something Just Like This\nEd Sheeran – Bad Habits\nColdplay – Adventure of a Lifetime\nColdplay – Fix You\nEd Sheeran – Photograph\nColdplay – The Scientist\nColdplay – Feelslikeimfallinginlove\nEd Sheeran – Shivers\nEd Sheeran – Perfect\nColdplay – Viva la Vida\nEd Sheeran – Give Me Love\nColdplay – Sky Full of Stars\n\nPerformers\n🎻 String Quartet – Andegave \nBook a Private Event\nLooking to create an unforgettable experience for your wedding\, or special occasion? We offer private event bookings with customized programs tailored to your needs. \nGet a quote
URL:https://www.listeso.com/concert/2026-04-17-greniers-saint-jean-dangers-ed-sheeran-rencontre-coldplay/
LOCATION:Greniers Saint-Jean d’Angers\, Angers\, France
CATEGORIES:Angers, France
ATTACH;FMTTYPE=image/jpeg:https://www.listeso.com/wp-content/uploads/2025/10/0451bf8e-148d-11f0-8cde-be12cc90078e-Z2UcJN.jpg
END:VEVENT
BEGIN:VEVENT
DTSTART;TZID=Europe/Paris:20260404T190000
DTEND;TZID=Europe/Paris:20260404T200000
DTSTAMP:20260422T124136
CREATED:20260314T111952Z
LAST-MODIFIED:20260314T111952Z
UID:10008939-1775329200-1775332800@www.listeso.com
SUMMARY:Candlelight : Les Quatre Saisons de Vivaldi
DESCRIPTION:Overview\nCandlelight t’offre des expériences musicales magiques dans de magnifiques lieux éclairés à la bougie. Profite de ce concert Candlelight : Les 4 saisons de Vivaldi à Angers! \nGeneral Info\n\n⏳ Duration: 60 minutes approximately. Doors open 30 minutes before the concert begins. Late arrivals will not be permitted\n👤 Age requirement: From 8 years old. Spectators under 16 must be accompanied by an adult\n♿ Accessibility: Wheelchair accessible venue\n🪑 Seating: Seats are assigned on a first-come\, first-served basis according to the reserved category\n\nProgram\n\nVivaldi – Concerto no 1 en mi majeur\, op. 8\, RV 269\, « La primavera » (Le Printemps)\nVivaldi – Concerto no 2 en sol mineur\, op. 8\, RV 315\, « L’estate » (L’Été)\nVivaldi – Concerto no 3 en fa majeur\, op. 8\, RV 293\, « L’autunno » (L’Automne)\nVivaldi – Concerto no 4 en fa mineur\, op. 8\, RV 297\, « L’inverno » (L’Hiver)\n\nPerformers\n🎻 Quatuor à cordes – to be announced \nBook a Private Event\nLooking to create an unforgettable experience for your wedding\, or special occasion? We offer private event bookings with customized programs tailored to your needs. \nGet a quote
URL:https://www.listeso.com/concert/2026-04-04-greniers-saint-jean-angers-les-quatre-saisons-vivaldi/
LOCATION:Greniers Saint-Jean d’Angers\, Angers\, France
CATEGORIES:Angers, France
ATTACH;FMTTYPE=image/jpeg:https://www.listeso.com/wp-content/uploads/2025/10/7c807528-1ab3-11f0-9eff-324ba1e3eb01-s1gFvG.jpg
END:VEVENT
BEGIN:VEVENT
DTSTART;TZID=Europe/Paris:20260326T193000
DTEND;TZID=Europe/Paris:20260326T203000
DTSTAMP:20260422T124136
CREATED:20260314T111930Z
LAST-MODIFIED:20260314T111930Z
UID:10008938-1774553400-1774557000@www.listeso.com
SUMMARY:Candlelight: Hommage à Hans Zimmer
DESCRIPTION:Overview\nCandlelight t’offre des expériences musicales magiques dans de magnifiques lieux éclairés à la bougie. Profitez d’un concert exceptionnel rendant hommage aux œuvres emblématiques de Hans Zimmer\, interprétées par un quatuor à cordes dans l’atmosphère unique des Greniers Saint-Jean d’Angers. \nGeneral Info\n\n⏳ Duration: 60 minutes environ. Les portes ouvrent 30 minutes avant le début du concert\n👤 Age requirement: à partir de 8 ans. Les spectateurs de moins de 16 ans doivent être accompagné par un adulte\n♿ Accessibility: accès PMR disponible pour cet événement\n🪑 Seating: Les places sont assignées par ordre d’arrivée\, selon la catégorie réservée. Les retards ne seront pas permis\n\nProgram\n\nInception – Time\nLe Roi Lion – This Land\nMadagascar – Zooster’s Breakout\nDunkerque – Supermarine\nL’Enfer du Pacifique – Honor\nThe Dark Knight – A Dark Night\nWonder Women – Thème principal\nInterstellar – Cornfield Chase\nDune – Suite\nGladiator – Thème principal\nSherlock Holmes – Discombobulate\nPirates des Caraïbes – Thème principal\nPirates des Caraïbes – He’s a Pirate\n\nPerformers\n🎻 26 mars: Quatuor à cordes – Andegave \n🎻 09 mai: Quatuor à cordes – annoncé prochainement \nBook a Private Event\nLooking to create an unforgettable experience for your wedding\, or special occasion? We offer private event bookings with customized programs tailored to your needs. \nGet a quote
URL:https://www.listeso.com/concert/2026-03-26-greniers-saint-jean-d-angers-hommage-a-hans-zimmer/
LOCATION:Greniers Saint-Jean d’Angers\, Angers\, France
CATEGORIES:Angers, France
ATTACH;FMTTYPE=image/jpeg:https://www.listeso.com/wp-content/uploads/2025/10/5c755a1c-0b29-11f0-827c-a2cfe8261701-XYlYMo.jpg
END:VEVENT
BEGIN:VEVENT
DTSTART;TZID=Europe/Paris:20260321T190000
DTEND;TZID=Europe/Paris:20260321T200000
DTSTAMP:20260422T124136
CREATED:20260314T111906Z
LAST-MODIFIED:20260314T111906Z
UID:10008937-1774119600-1774123200@www.listeso.com
SUMMARY:Candlelight: De Mozart à Chopin
DESCRIPTION:Overview\nCandlelight t’offre des expériences musicales magiques dans de magnifiques lieux éclairés à la bougie. Profitez d’un voyage musical de Mozart à Chopin dans la splendeur des Greniers Saint-Jean d’Angers. \nGeneral Info\n\n📍 Lieu: Greniers Saint-Jean d’Angers\n⏳ Duration: 60 minutes environ. Les portes ouvrent 30 minutes avant le début du concert\n👤 Âge requis: À partir de 8 ans. Les spectateurs de moins de 16 ans doivent être accompagnés par un adulte\n♿ Accessibility: Accès PMR disponible pour cet événement\n🪑 Seating: Les places sont assignées par ordre d’arrivée\, selon la catégorie réservée\n\nProgramme\n\nMozart: Marche turque (Rondo alla Turca) de la Sonate pour piano no 11 en la majeur\, K. 331\nMozart: Sonate pour piano n° 12 en fa majeur\, K. 332 – I. Allegro\nMozart: La flûte enchantée\, K. 620\, Act II: “Der Hölle Rache kocht in meinem Herzen” (Reine de la nuit)\nBeethoven: Symphonie n° 5 en ut mineur\, op. 67 – I. Allegro con brio\nBeethoven: Sonate pour piano no 14 de Beethoven do dièse mineur\, op. 27 n° 2 (“Sonate au clair de lune”) – I. Adagio sostenuto\nBeethoven: Sonate pour piano n° 8 en do mineur\, op. 13 (“Pathétique”) – III. Rondo: Allegro\nLiszt: Liebestraum n° 3 en la bémol majeur\, S. 541\nChopin: Nocturne en mi bémol majeur\, op. 9 No.2\nChopin: Valse en ut dièse mineur op. 64 No.2\nChopin: Scherzo n° 2 en si bémol mineur\, op. 31\n\nPerformers\n🎹 Piano – Frédéric Renoux \nBook a Private Event\nLooking to create an unforgettable experience for your wedding\, or special occasion? We offer private event bookings with customized programs tailored to your needs. \nGet a quote
URL:https://www.listeso.com/concert/2026-03-21-greniers-saint-jean-dangers-de-mozart-a-chopin/
LOCATION:Greniers Saint-Jean d’Angers\, Angers\, France
CATEGORIES:Angers, France
ATTACH;FMTTYPE=image/jpeg:https://www.listeso.com/wp-content/uploads/2026/03/8864075e-0afc-11f0-bcf1-ba5d885327d1-LvD9Zb.jpg
END:VEVENT
END:VCALENDAR