BEGIN:VCALENDAR
VERSION:2.0
PRODID:-//Listeso Music Group - A Boutique String Quartet Agency - ECPv6.15.20//NONSGML v1.0//EN
CALSCALE:GREGORIAN
METHOD:PUBLISH
X-ORIGINAL-URL:https://www.listeso.com
X-WR-CALDESC:Events for Listeso Music Group - A Boutique String Quartet Agency
REFRESH-INTERVAL;VALUE=DURATION:PT1H
X-Robots-Tag:noindex
X-PUBLISHED-TTL:PT1H
BEGIN:VTIMEZONE
TZID:America/Los_Angeles
BEGIN:DAYLIGHT
TZOFFSETFROM:-0800
TZOFFSETTO:-0700
TZNAME:PDT
DTSTART:20240310T100000
END:DAYLIGHT
BEGIN:STANDARD
TZOFFSETFROM:-0700
TZOFFSETTO:-0800
TZNAME:PST
DTSTART:20241103T090000
END:STANDARD
BEGIN:DAYLIGHT
TZOFFSETFROM:-0800
TZOFFSETTO:-0700
TZNAME:PDT
DTSTART:20250309T100000
END:DAYLIGHT
BEGIN:STANDARD
TZOFFSETFROM:-0700
TZOFFSETTO:-0800
TZNAME:PST
DTSTART:20251102T090000
END:STANDARD
BEGIN:DAYLIGHT
TZOFFSETFROM:-0800
TZOFFSETTO:-0700
TZNAME:PDT
DTSTART:20260308T100000
END:DAYLIGHT
BEGIN:STANDARD
TZOFFSETFROM:-0700
TZOFFSETTO:-0800
TZNAME:PST
DTSTART:20261101T090000
END:STANDARD
END:VTIMEZONE
BEGIN:VEVENT
DTSTART;TZID=America/Los_Angeles:20251114T181500
DTEND;TZID=America/Los_Angeles:20251114T191500
DTSTAMP:20260421T192626
CREATED:20251018T110211Z
LAST-MODIFIED:20251018T110211Z
UID:10005911-1763144100-1763147700@www.listeso.com
SUMMARY:Candlelight: Tribute to Adele
DESCRIPTION:Overview\nCandlelight concerts bring the magic of a live\, multi-sensory musical experience to awe-inspiring locations like never seen before in Fresno. Get your tickets now to discover the music of Adele at The Grand 1401 under the gentle glow of candlelight. \nGeneral Info\n\n📍 Venue: The Grand 1401\n⏳ Duration: 60 minutes. Doors open 60 minutes before the show and close 5 minutes prior to the start. Late arrivals will not be permitted\n👤 Age requirement: 8 years old or older. Anyone under the age of 16 must be accompanied by an adult\n♿ Accessibility: This venue is ADA compliant\n🪑 Seating: Seating is assigned on a first come first served basis in each zone\n\nTentative Program\n\n“Hello”\n“Rumour Has It”\n“Make You Feel My Love”\n“Water Under the Bridge”\n“Oh My God”\n“Someone Like You”\n“Send My Love (to Your New Lover)”\n“Chasing Pavements”\n“Skyfall”\n“When We Were Young”\n“Set Fire to the Rain”\n“Easy On Me”\n“Rolling in the Deep”\n\nPerformers\n🎻 Listeso String Quartet \nBook a Private Event\nLooking to create an unforgettable experience for your wedding\, or special occasion? We offer private event bookings with customized programs tailored to your needs. \nGet a quote
URL:https://www.listeso.com/concert/2025-11-14-the-grand-1401-tribute-to-adele/
LOCATION:The Grand 1401\, Fresno\, CA\, United States
CATEGORIES:Fresno, CA
ATTACH;FMTTYPE=image/jpeg:https://www.listeso.com/wp-content/uploads/2025/09/bf21e71a-2128-11f0-8510-ca6ec07e6a29-UZR0pD.jpg
END:VEVENT
BEGIN:VEVENT
DTSTART;TZID=America/Los_Angeles:20251108T181500
DTEND;TZID=America/Los_Angeles:20251108T191500
DTSTAMP:20260421T192626
CREATED:20251017T110345Z
LAST-MODIFIED:20251017T110345Z
UID:10005854-1762625700-1762629300@www.listeso.com
SUMMARY:Candlelight: Rings and Dragons
DESCRIPTION:Overview\nCandlelight concerts bring the magic of a live\, multi-sensory musical experience to awe-inspiring locations like never seen before in Fresno. Get your tickets now to discover the music of Rings and Dragons at The Grand 1401 under the gentle glow of candlelight. \nGeneral Info\n\n📍 Venue: The Grand 1401\n⏳ Duration: 60 minutes. Doors open 60 minutes before the show and close 5 minutes prior to the start. Late arrivals will not be permitted\n👤 Age requirement: 8 years old or older. Anyone under the age of 16 must be accompanied by an adult\n♿ Accessibility: this venue is ADA compliant\n🪑 Seating: Assigned on a first come first served basis in each zone\n\nTentative Program\n\nGame of Thrones Main Theme\nThe Shire\nGollum\nThe Caverns of Isengard\nFlaming Red Hair\nThe Passing of the Elves\nSaruman the White\nRivendell\nFire and Blood\nRains of Castamere\nLight of the Seven\nBastard (Part II)\nLighting of the Beacons\nThe Sacrifice of Faramir\nThe Grace of Undómiel\n\nPerformers\n🎻 String Quartet – Listeso – Fresno \nBook a Private Event\nLooking to create an unforgettable experience for your wedding\, or special occasion? We offer private event bookings with customized programs tailored to your needs. \nGet a quote
URL:https://www.listeso.com/concert/2025-11-08-the-grand-1401-rings-and-dragons/
LOCATION:The Grand 1401\, Fresno\, CA\, United States
CATEGORIES:Fresno, CA
ATTACH;FMTTYPE=image/jpeg:https://www.listeso.com/wp-content/uploads/2025/10/df2cb9b2-1490-11f0-9384-f65f346f445e-LNgK1h.jpg
END:VEVENT
BEGIN:VEVENT
DTSTART;TZID=America/Los_Angeles:20251011T203000
DTEND;TZID=America/Los_Angeles:20251011T213000
DTSTAMP:20260421T192626
CREATED:20251005T161345Z
LAST-MODIFIED:20251005T161345Z
UID:10005101-1760214600-1760218200@www.listeso.com
SUMMARY:Candlelight: The Best of Hans Zimmer
DESCRIPTION:Overview\nCandlelight concerts bring the magic of a live\, multi-sensory musical experience to awe-inspiring locations like never seen before in Fresno. Get your tickets now to discover the music of Hans Zimmer at The Grand 1401 under the gentle glow of candlelight. \nGeneral Info\n\n📍 Venue: The Grand 1401\n⏳ Duration: 60 minutes. Doors open 60 minutes before the show and close 5 minutes prior to the start. Late arrivals will not be permitted\n👤 Age requirement: 8 years old or older. Anyone under the age of 16 must be accompanied by an adult\n♿ Accessibility: This venue is ADA compliant\n🪑 Seating: Seating is assigned on a first come first served basis in each zone\n\nTentative Program\n\nTime from Inception\nThis Land from The Lion King\nZooster’s Breakout from Madagascar\nSupermarine from Dunkirk\nHonor from The Pacific\nA Dark Knight from The Dark Knight\nWonder Woman Suite\nGladiator Suite\nCornfield Chase from Interstellar\nDune Suite\nDiscombobulate from Sherlock Holmes\nPirates of the Caribbean Suite\n\nPerformers\n🎻 Listeso String Quartet \nBook a Private Event\nLooking to create an unforgettable experience for your wedding\, or special occasion? We offer private event bookings with customized programs tailored to your needs. \nGet a quote
URL:https://www.listeso.com/concert/2025-10-11-the-grand-1401-the-best-of-hans-zimmer/
LOCATION:The Grand 1401\, Fresno\, CA\, United States
CATEGORIES:Fresno, CA
ATTACH;FMTTYPE=image/jpeg:https://www.listeso.com/wp-content/uploads/2025/10/e2d3636e-1395-11f0-baa7-66dc5d784391-sdpps2.jpg
END:VEVENT
END:VCALENDAR