BEGIN:VCALENDAR
VERSION:2.0
PRODID:-//Listeso Music Group - A Boutique String Quartet Agency - ECPv6.15.20//NONSGML v1.0//EN
CALSCALE:GREGORIAN
METHOD:PUBLISH
X-WR-CALNAME:Listeso Music Group - A Boutique String Quartet Agency
X-ORIGINAL-URL:https://www.listeso.com
X-WR-CALDESC:Events for Listeso Music Group - A Boutique String Quartet Agency
REFRESH-INTERVAL;VALUE=DURATION:PT1H
X-Robots-Tag:noindex
X-PUBLISHED-TTL:PT1H
BEGIN:VTIMEZONE
TZID:America/Toronto
BEGIN:DAYLIGHT
TZOFFSETFROM:-0500
TZOFFSETTO:-0400
TZNAME:EDT
DTSTART:20240310T070000
END:DAYLIGHT
BEGIN:STANDARD
TZOFFSETFROM:-0400
TZOFFSETTO:-0500
TZNAME:EST
DTSTART:20241103T060000
END:STANDARD
BEGIN:DAYLIGHT
TZOFFSETFROM:-0500
TZOFFSETTO:-0400
TZNAME:EDT
DTSTART:20250309T070000
END:DAYLIGHT
BEGIN:STANDARD
TZOFFSETFROM:-0400
TZOFFSETTO:-0500
TZNAME:EST
DTSTART:20251102T060000
END:STANDARD
BEGIN:DAYLIGHT
TZOFFSETFROM:-0500
TZOFFSETTO:-0400
TZNAME:EDT
DTSTART:20260308T070000
END:DAYLIGHT
BEGIN:STANDARD
TZOFFSETFROM:-0400
TZOFFSETTO:-0500
TZNAME:EST
DTSTART:20261101T060000
END:STANDARD
BEGIN:DAYLIGHT
TZOFFSETFROM:-0500
TZOFFSETTO:-0400
TZNAME:EDT
DTSTART:20270314T070000
END:DAYLIGHT
BEGIN:STANDARD
TZOFFSETFROM:-0400
TZOFFSETTO:-0500
TZNAME:EST
DTSTART:20271107T060000
END:STANDARD
END:VTIMEZONE
BEGIN:VTIMEZONE
TZID:America/New_York
BEGIN:DAYLIGHT
TZOFFSETFROM:-0500
TZOFFSETTO:-0400
TZNAME:EDT
DTSTART:20250309T070000
END:DAYLIGHT
BEGIN:STANDARD
TZOFFSETFROM:-0400
TZOFFSETTO:-0500
TZNAME:EST
DTSTART:20251102T060000
END:STANDARD
BEGIN:DAYLIGHT
TZOFFSETFROM:-0500
TZOFFSETTO:-0400
TZNAME:EDT
DTSTART:20260308T070000
END:DAYLIGHT
BEGIN:STANDARD
TZOFFSETFROM:-0400
TZOFFSETTO:-0500
TZNAME:EST
DTSTART:20261101T060000
END:STANDARD
BEGIN:DAYLIGHT
TZOFFSETFROM:-0500
TZOFFSETTO:-0400
TZNAME:EDT
DTSTART:20270314T070000
END:DAYLIGHT
BEGIN:STANDARD
TZOFFSETFROM:-0400
TZOFFSETTO:-0500
TZNAME:EST
DTSTART:20271107T060000
END:STANDARD
END:VTIMEZONE
BEGIN:VEVENT
DTSTART;TZID=America/Toronto:20260403T183000
DTEND;TZID=America/Toronto:20260403T193000
DTSTAMP:20260426T013848
CREATED:20260326T111456Z
LAST-MODIFIED:20260326T111456Z
UID:10010475-1775241000-1775244600@www.listeso.com
SUMMARY:Candlelight: Tribute to Fleetwood Mac
DESCRIPTION:Overview\nCandlelight concerts bring the magic of a live\, multi-sensory musical experience to awe-inspiring locations like never seen before in Toronto. Get your tickets now to discover the music of Fleetwood Mac at The Royal Theatre under the gentle glow of candlelight. \nGeneral Info\n\n⏳ Duration: 60 minutes. Doors open 60 minutes before the show. No entry once it starts.\n👤 Age recommendation: The experience is recommended for those who are 8+. To preserve the experience\, disruptive behaviour may result in being asked to step outside. Anyone under the age of 16 must be accompanied by an adult.\n♿ Accessibility: This venue is accessible for people with reduced mobility\n🪑 Seating: Seating is assigned on a first come first served basis in each zone\n\nTentative Program\n\nEverywhere\nGypsy\nYou Make Loving Fun\nNever Going Back Again\nDon’t Stop\nGold Dust Woman\nGo Your Own Way\nLandslide\nLittle Lies\nSongbird\nRhiannon\nThe Chain\n\nPerformers\n🎻 String Quartet: 2 violins\, 1 viola\, 1 cello \nBook a Private Event\nLooking to create an unforgettable experience for your wedding\, or special occasion? We offer private event bookings with customized programs tailored to your needs. \nGet a quote
URL:https://www.listeso.com/concert/2026-04-03-the-royal-theatre-candlelight-tribute-to-fleetwood-mac/
LOCATION:The Royal Theatre\, Toronto\, Canada
CATEGORIES:Toronto, ON
ATTACH;FMTTYPE=image/jpeg:https://www.listeso.com/wp-content/uploads/2025/10/5c2e82a6-1f77-11f0-9fc3-b6302f1836c4-3Gs8kb.jpg
END:VEVENT
BEGIN:VEVENT
DTSTART;TZID=America/New_York:20260125T204500
DTEND;TZID=America/New_York:20260125T214500
DTSTAMP:20260426T013848
CREATED:20251127T120927Z
LAST-MODIFIED:20251127T120927Z
UID:10007562-1769373900-1769377500@www.listeso.com
SUMMARY:Candlelight: From Bach to The Beatles
DESCRIPTION:Overview\nCandlelight concerts bring the magic of a live\, multi-sensory musical experience to awe-inspiring locations like never seen before in New York. Get your tickets now to discover the music of From Bach to The Beatles at The Royal under the gentle glow of candlelight. \nGeneral Info\n\n📍 Venue: The Royal Theatre\n⏳ Duration: 60 minutes. Doors open 45 minutes before the show and close 5 minutes prior to the start. Late arrivals will not be permitted\n👤 Age requirement: 8 years old or older. Anyone under the age of 16 must be accompanied by an adult\n♿ Accessibility: This venue is ADA compliant\n🪑 Seating: Seating is assigned on a first come first served basis in each zone\n\nTentative Program\nBach \n\nBrandenburg Concerto No. 3 in G Major\, BWV 1048: I. Allegro\nCello Suite No. 1 in G Major\, BWV 1007: I. Prelude\nAve Maria (Bach / Gounod)\nConcerto for 2 Violins in D Minor\, BWV 1043: I. Vivace\n\nThe Beatles \n\nI Want to Hold Your Hand\nYesterday\nBlackbird\nStrawberry Fields Forever\nAll You Need Is Love\nEleanor Rigby\nMichelle\nLove Me Do\nSomething\nIn My Life\nHey Jude\nHere Comes the Sun\nCome Together\n\nPerformers\n🎻 String Quartet \nBook a Private Event\nLooking to create an unforgettable experience for your wedding\, or special occasion? We offer private event bookings with customized programs tailored to your needs. \nGet a quote
URL:https://www.listeso.com/concert/2026-01-25-the-royal-theatre-from-bach-to-the-beatles/
LOCATION:The Royal Theatre\, Toronto\, Canada
CATEGORIES:Toronto, ON
ATTACH;FMTTYPE=image/jpeg:https://www.listeso.com/wp-content/uploads/2025/10/e7b2cb04-1a8e-11f0-941b-9ed7974e77b0-o2ATZf.jpg
END:VEVENT
BEGIN:VEVENT
DTSTART;TZID=America/Toronto:20260124T204500
DTEND;TZID=America/Toronto:20260124T214500
DTSTAMP:20260426T013848
CREATED:20251126T122027Z
LAST-MODIFIED:20251126T122027Z
UID:10007522-1769287500-1769291100@www.listeso.com
SUMMARY:Candlelight: Queen vs. ABBA
DESCRIPTION:Overview\nCandlelight concerts bring the magic of a live\, multi-sensory musical experience to awe-inspiring locations like never seen before in Toronto. Get your tickets now to discover the music of Queen vs. ABBA at The Royal Theatre under the gentle glow of candlelight. \nGeneral Info\n\n📍 Venue: The Royal Theatre\n⏳ Duration: 60 minutes. Doors open 60 minutes before the show and close 5 minutes prior to the start. Late arrivals will not be permitted\n👤 Age requirement: 8 years old or older. Anyone under the age of 16 must be accompanied by an adult\n♿ Accessibility: This venue is accessible for people with reduced mobility\n🪑 Seating: Seating is assigned on a first come first served basis in each zone\n\nTentative Program\n\nDancing Queen – ABBA\nSOS – ABBA\nMoney\, Money\, Money – ABBA\nBohemian Rhapsody – Queen\nI Want to Break Free – Queen\nWaterloo – ABBA\nSuper Trouper – ABBA\nMamma Mia – ABBA\nDon’t Stop Me Now – Queen\nWe Will Rock You – Queen\nWe Are the Champions – Queen\n\nPerformers\n🎻 String Quartet: 2 violins\, 1 viola\, 1 cello \nBook a Private Event\nLooking to create an unforgettable experience for your wedding\, or special occasion? We offer private event bookings with customized programs tailored to your needs. \nGet a quote
URL:https://www.listeso.com/concert/2026-01-24-the-royal-theatre-candlelight-queen-vs-abba/
LOCATION:The Royal Theatre\, Toronto\, Canada
CATEGORIES:Toronto, ON
ATTACH;FMTTYPE=image/jpeg:https://www.listeso.com/wp-content/uploads/2025/10/66cd0d5a-1945-11f0-b4e1-16541c266220-gop1t7.jpg
END:VEVENT
BEGIN:VEVENT
DTSTART;TZID=America/Toronto:20260117T204500
DTEND;TZID=America/Toronto:20260117T214500
DTSTAMP:20260426T013848
CREATED:20251119T123657Z
LAST-MODIFIED:20251119T123657Z
UID:10007242-1768682700-1768686300@www.listeso.com
SUMMARY:Candlelight: Coldplay & Imagine Dragons
DESCRIPTION:Overview\nCandlelight concerts bring the magic of a live\, multi-sensory musical experience to awe-inspiring locations like never seen before in Toronto. Get your tickets now to discover the music of Coldplay & Imagine Dragons at The Royal Cinema Theatre under the gentle glow of candlelight. \nGeneral Info\n\n📍 Venue: The Royal Theatre\n⏳ Duration: 60 minutes. Doors open 45 minutes before the show and close 5 minutes prior to the start. Late arrivals will not be permitted\n👤 Age requirement: 8 years old or older. Anyone under the age of 16 must be accompanied by an adult\n♿ Accessibility: This venue is accessible for people with reduced mobility\n🪑 Seating: Seating is assigned on a first come first served basis in each zone\n\nTentative Program\n\nColdplay – Clocks\nColdplay – Something Just Like This\nImagine Dragons – Radioactive\nColdplay – Adventure of a Lifetime\nColdplay – Fix You\nImagine Dragons – Eyes Closed\nImagine Dragons – Nice to Meet You\nColdplay – The Scientist\nImagine Dragons – Follow You\nImagine Dragons – Bad Liar\nColdplay – Viva la Vida\nImagine Dragons – Believer\nColdplay – Sky Full of Stars\n\nPerformers\n🎻 String Quartet: 2 violins\, 1 viola\, 1 cello \nBook a Private Event\nLooking to create an unforgettable experience for your wedding\, or special occasion? We offer private event bookings with customized programs tailored to your needs. \nGet a quote
URL:https://www.listeso.com/concert/2026-01-17-the-royal-theatre-coldplay-imagine-dragons/
LOCATION:The Royal Theatre\, Toronto\, Canada
CATEGORIES:Toronto, ON
ATTACH;FMTTYPE=image/jpeg:https://www.listeso.com/wp-content/uploads/2025/10/53777c04-1157-11f0-bc63-0ee885ccc32f-5sEo1f.jpg
END:VEVENT
BEGIN:VEVENT
DTSTART;TZID=America/Toronto:20260117T183000
DTEND;TZID=America/Toronto:20260117T193000
DTSTAMP:20260426T013848
CREATED:20251119T123710Z
LAST-MODIFIED:20251119T123710Z
UID:10007243-1768674600-1768678200@www.listeso.com
SUMMARY:Candlelight: Queen vs. ABBA
DESCRIPTION:Overview\nCandlelight concerts bring the magic of a live\, multi-sensory musical experience to awe-inspiring locations like never seen before in Toronto. Get your tickets now to discover the music of Queen vs. ABBA at The Royal Theatre under the gentle glow of candlelight. \nGeneral Info\n\n📍 Venue: The Royal Theatre\n⏳ Duration: 60 minutes. Doors open 60 minutes before the show and close 5 minutes prior to the start. Late arrivals will not be permitted\n👤 Age requirement: 8 years old or older. Anyone under the age of 16 must be accompanied by an adult\n♿ Accessibility: This venue is accessible for people with reduced mobility\n🪑 Seating: Seating is assigned on a first come first served basis in each zone\n\nProgram\n\nDancing Queen – ABBA\nSOS – ABBA\nMoney\, Money\, Money – ABBA\nBohemian Rhapsody – Queen\nI Want to Break Free – Queen\nWaterloo – ABBA\nSuper Trouper – ABBA\nMamma Mia – ABBA\nDon’t Stop Me Now – Queen\nWe Will Rock You – Queen\nWe Are the Champions – Queen\n\nPerformers\n🎻 String Quartet: 2 violins\, 1 viola\, 1 cello \nBook a Private Event\nLooking to create an unforgettable experience for your wedding\, or special occasion? We offer private event bookings with customized programs tailored to your needs. \nGet a quote
URL:https://www.listeso.com/concert/2026-01-17-the-royal-theatre-candlelight-queen-vs-abba/
LOCATION:The Royal Theatre\, Toronto\, Canada
CATEGORIES:Toronto, ON
ATTACH;FMTTYPE=image/jpeg:https://www.listeso.com/wp-content/uploads/2025/10/66cd0d5a-1945-11f0-b4e1-16541c266220-gop1t7.jpg
END:VEVENT
BEGIN:VEVENT
DTSTART;TZID=America/Toronto:20260109T204500
DTEND;TZID=America/Toronto:20260109T214500
DTSTAMP:20260426T013848
CREATED:20251112T122234Z
LAST-MODIFIED:20251112T122234Z
UID:10006946-1767991500-1767995100@www.listeso.com
SUMMARY:Candlelight: Coldplay & Imagine Dragons
DESCRIPTION:Overview\nCandlelight concerts bring the magic of a live\, multi-sensory musical experience to awe-inspiring locations like never seen before in Toronto. Get your tickets now to discover the music of Coldplay & Imagine Dragons at The Royal Cinema Theatre under the gentle glow of candlelight. \nGeneral Info\n\n📍 Venue: The Royal Theatre\n⏳ Duration: 60 minutes. Doors open 45 minutes before the show and close 5 minutes prior to the start. Late arrivals will not be permitted\n👤 Age requirement: 8 years old or older. Anyone under the age of 16 must be accompanied by an adult\n♿ Accessibility: This venue is accessible for people with reduced mobility\n🪑 Seating: Seating is assigned on a first come first served basis in each zone\n\nTentative Program\n\nColdplay – Clocks\nColdplay – Something Just Like This\nImagine Dragons – Radioactive\nColdplay – Adventure of a Lifetime\nColdplay – Fix You\nImagine Dragons – Eyes Closed\nImagine Dragons – Nice to Meet You\nColdplay – The Scientist\nImagine Dragons – Follow You\nImagine Dragons – Bad Liar\nColdplay – Viva la Vida\nImagine Dragons – Believer\nColdplay – Sky Full of Stars\n\nPerformers\n🎻 String Quartet: 2 violins\, 1 viola\, 1 cello \nBook a Private Event\nLooking to create an unforgettable experience for your wedding\, or special occasion? We offer private event bookings with customized programs tailored to your needs. \nGet a quote
URL:https://www.listeso.com/concert/2026-01-09-the-royal-theatre-coldplay-imagine-dragons/
LOCATION:The Royal Theatre\, Toronto\, Canada
CATEGORIES:Toronto, ON
ATTACH;FMTTYPE=image/jpeg:https://www.listeso.com/wp-content/uploads/2025/10/53777c04-1157-11f0-bc63-0ee885ccc32f-5sEo1f.jpg
END:VEVENT
BEGIN:VEVENT
DTSTART;TZID=America/Toronto:20260108T204500
DTEND;TZID=America/Toronto:20260108T214500
DTSTAMP:20260426T013848
CREATED:20251112T122206Z
LAST-MODIFIED:20251112T122206Z
UID:10006944-1767905100-1767908700@www.listeso.com
SUMMARY:Candlelight: Coldplay & Imagine Dragons
DESCRIPTION:Overview\nCandlelight concerts bring the magic of a live\, multi-sensory musical experience to awe-inspiring locations like never seen before in Toronto. Get your tickets now to discover the music of Coldplay & Imagine Dragons at The Royal Cinema Theatre under the gentle glow of candlelight. \nGeneral Info\n\n📍 Venue: The Royal Theatre\n⏳ Duration: 60 minutes. Doors open 45 minutes before the show and close 5 minutes prior to the start. Late arrivals will not be permitted\n👤 Age requirement: 8 years old or older. Anyone under the age of 16 must be accompanied by an adult\n♿ Accessibility: This venue is accessible for people with reduced mobility\n🪑 Seating: Seating is assigned on a first come first served basis in each zone\n\nTentative Program\n\nColdplay – Clocks\nColdplay – Something Just Like This\nImagine Dragons – Radioactive\nColdplay – Adventure of a Lifetime\nColdplay – Fix You\nImagine Dragons – Eyes Closed\nImagine Dragons – Nice to Meet You\nColdplay – The Scientist\nImagine Dragons – Follow You\nImagine Dragons – Bad Liar\nColdplay – Viva la Vida\nImagine Dragons – Believer\nColdplay – Sky Full of Stars\n\nPerformers\n🎻 String Quartet: 2 violins\, 1 viola\, 1 cello \nBook a Private Event\nLooking to create an unforgettable experience for your wedding\, or special occasion? We offer private event bookings with customized programs tailored to your needs. \nGet a quote
URL:https://www.listeso.com/concert/2026-01-08-the-royal-theatre-candlelight-coldplay-imagine-dragons/
LOCATION:The Royal Theatre\, Toronto\, Canada
CATEGORIES:Toronto, ON
ATTACH;FMTTYPE=image/jpeg:https://www.listeso.com/wp-content/uploads/2025/10/53777c04-1157-11f0-bc63-0ee885ccc32f-5sEo1f.jpg
END:VEVENT
BEGIN:VEVENT
DTSTART;TZID=America/Toronto:20260108T183000
DTEND;TZID=America/Toronto:20260108T193000
DTSTAMP:20260426T013848
CREATED:20251112T122220Z
LAST-MODIFIED:20251112T122220Z
UID:10006945-1767897000-1767900600@www.listeso.com
SUMMARY:Candlelight: Tribute to Fleetwood Mac
DESCRIPTION:Overview\nCandlelight concerts bring the magic of a live\, multi-sensory musical experience to awe-inspiring locations like never seen before in Toronto. Get your tickets now to discover the music of Fleetwood Mac at The Royal Theatre under the gentle glow of candlelight. \nGeneral Info\n\n📍 Venue: The Royal Theatre\n⏳ Duration: 60 minutes. Doors open 60 minutes before the show and close 5 minutes prior to the start. Late arrivals will not be permitted\n👤 Age requirement: 8 years old or older. Anyone under the age of 16 must be accompanied by an adult\n♿ Accessibility: This venue is accessible for people with reduced mobility\n🪑 Seating: Seating is assigned on a first come first served basis in each zone\n\nTentative Program\n\nEverywhere\nGypsy\nYou Make Loving Fun\nNever Going Back Again\nDon’t Stop\nGold Dust Woman\nGo Your Own Way\nLandslide\nLittle Lies\nSongbird\nRhiannon\nThe Chain\n\nPerformers\n🎻 String Quartet: 2 violins\, 1 viola\, 1 cello \nBook a Private Event\nLooking to create an unforgettable experience for your wedding\, or special occasion? We offer private event bookings with customized programs tailored to your needs. \nGet a quote
URL:https://www.listeso.com/concert/2026-01-08-the-royal-theatre-tribute-to-fleetwood-mac/
LOCATION:The Royal Theatre\, Toronto\, Canada
CATEGORIES:Toronto, ON
ATTACH;FMTTYPE=image/jpeg:https://www.listeso.com/wp-content/uploads/2025/10/5c2e82a6-1f77-11f0-9fc3-b6302f1836c4-3Gs8kb.jpg
END:VEVENT
BEGIN:VEVENT
DTSTART;TZID=America/Toronto:20251228T183000
DTEND;TZID=America/Toronto:20251228T193000
DTSTAMP:20260426T013848
CREATED:20251102T121638Z
LAST-MODIFIED:20251102T121638Z
UID:10006365-1766946600-1766950200@www.listeso.com
SUMMARY:Candlelight: Queen vs. ABBA
DESCRIPTION:Overview\nCandlelight concerts bring the magic of a live\, multi-sensory musical experience to awe-inspiring locations like never seen before in Toronto. Get your tickets now to discover the music of Queen vs. ABBA at The Royal Theatre under the gentle glow of candlelight. \nGeneral Info\n\n📍 Venue: The Royal Theatre\n⏳ Duration: 60 minutes. Doors open 60 minutes before the show and close 5 minutes prior to the start. Late arrivals will not be permitted\n👤 Age requirement: 8 years old or older. Anyone under the age of 16 must be accompanied by an adult\n♿ Accessibility: This venue is accessible for people with reduced mobility\n🪑 Seating: Seating is assigned on a first come first served basis in each zone\n\nTentative Program\n\nDancing Queen – ABBA\nSOS – ABBA\nMoney\, Money\, Money – ABBA\nBohemian Rhapsody – Queen\nI Want to Break Free – Queen\nWaterloo – ABBA\nSuper Trouper – ABBA\nMamma Mia – ABBA\nDon’t Stop Me Now – Queen\nWe Will Rock You – Queen\nWe Are the Champions – Queen\n\nPerformers\n🎻 String Quartet: 2 violins\, 1 viola\, 1 cello \nBook a Private Event\nLooking to create an unforgettable experience for your wedding\, or special occasion? We offer private event bookings with customized programs tailored to your needs. \nGet a quote
URL:https://www.listeso.com/concert/2025-12-28-the-royal-theatre-queen-vs-abba/
LOCATION:The Royal Theatre\, Toronto\, Canada
CATEGORIES:Toronto, ON
ATTACH;FMTTYPE=image/jpeg:https://www.listeso.com/wp-content/uploads/2025/10/66cd0d5a-1945-11f0-b4e1-16541c266220-gop1t7.jpg
END:VEVENT
BEGIN:VEVENT
DTSTART;TZID=America/Toronto:20251226T183000
DTEND;TZID=America/Toronto:20251226T193000
DTSTAMP:20260426T013848
CREATED:20251102T121553Z
LAST-MODIFIED:20251102T121553Z
UID:10006362-1766773800-1766777400@www.listeso.com
SUMMARY:Candlelight: Christmas Carols on Strings
DESCRIPTION:Overview\nCandlelight concerts bring the magic of a live\, multi-sensory musical experience to awe-inspiring locations like never seen before in Toronto. Get your tickets now to discover the music of Christmas Carols on Strings at The Royal Theatre under the gentle glow of candlelight. \nGeneral Info\n\n📍 Venue: The Royal Theatre\n⏳ Duration: 60 minutes. Doors open 60 minutes before the show and close 5 minutes prior to the start. Late arrivals will not be permitted\n👤 Age requirement: 8 years old or older. Anyone under the age of 16 must be accompanied by an adult\n♿ Accessibility: This venue is accessible for people with reduced mobility\n🪑 Seating: Seating is assigned on a first come first served basis in each zone\n\nTentative Program\n\n12 Days of Christmas\nAngels from the Realms of Glory\nAngels We Have Heard On High\nAway in a Manger\nCarol of the Bells\nDeck the Halls\nDing Dong! Merrily on High\nDo You Hear What I Hear\nGod Rest Ye Merry Gentlemen\nGood King Wenceslas\nGreensleeves (What Child Is This)\nHark! The Herald Angels Sing\nIn the Bleak Mid-Winter\nJoy to the World\nO Christmas Tree (O Tannenbaum)\nO Come All Ye Faithful\nO Holy Night\nO Little Town of Bethlehem\nSilent Night\nThe First Noël\n\nPerformers\n🎻 String Quartet: 2 violins\, 1 viola\, 1 cello \nBook a Private Event\nLooking to create an unforgettable experience for your wedding\, or special occasion? We offer private event bookings with customized programs tailored to your needs. \nGet a quote
URL:https://www.listeso.com/concert/2025-12-26-the-royal-theatre-christmas-carols-on-strings/
LOCATION:The Royal Theatre\, Toronto\, Canada
CATEGORIES:Toronto, ON
ATTACH;FMTTYPE=image/jpeg:https://www.listeso.com/wp-content/uploads/2025/10/fe5444ee-3f93-11f0-a5a4-6ee326aa2bcb-P5uz7k.jpg
END:VEVENT
BEGIN:VEVENT
DTSTART;TZID=America/Toronto:20251101T204500
DTEND;TZID=America/Toronto:20251101T214500
DTSTAMP:20260426T013848
CREATED:20251024T110919Z
LAST-MODIFIED:20251024T110919Z
UID:10006109-1762029900-1762033500@www.listeso.com
SUMMARY:Candlelight: Coldplay & Imagine Dragons
DESCRIPTION:Overview\nCandlelight concerts bring the magic of a live\, multi-sensory musical experience to awe-inspiring locations like never seen before in Toronto. Get your tickets now to discover the music of Coldplay & Imagine Dragons at The Royal Cinema Theatre under the gentle glow of candlelight. \nGeneral Info\n\n📍 Venue: The Royal Theatre\n⏳ Duration: 60 minutes. Doors open 45 minutes before the show and close 5 minutes prior to the start. Late arrivals will not be permitted\n👤 Age requirement: 8 years old or older. Anyone under the age of 16 must be accompanied by an adult\n♿ Accessibility: This venue is accessible for people with reduced mobility\n🪑 Seating: Seating is assigned on a first come first served basis in each zone\n\nTentative Program\n\nColdplay – Clocks\nColdplay – Something Just Like This\nImagine Dragons – Radioactive\nColdplay – Adventure of a Lifetime\nColdplay – Fix You\nImagine Dragons – Eyes Closed\nImagine Dragons – Nice to Meet You\nColdplay – The Scientist\nImagine Dragons – Follow You\nImagine Dragons – Bad Liar\nColdplay – Viva la Vida\nImagine Dragons – Believer\nColdplay – Sky Full of Stars\n\nPerformers\n🎻 String Quartet: 2 violins\, 1 viola\, 1 cello \nBook a Private Event\nLooking to create an unforgettable experience for your wedding\, or special occasion? We offer private event bookings with customized programs tailored to your needs. \nGet a quote
URL:https://www.listeso.com/concert/2025-11-01-the-royal-theatre-coldplay-imagine-dragons/
LOCATION:The Royal Theatre\, Toronto\, Canada
CATEGORIES:Toronto, ON
ATTACH;FMTTYPE=image/jpeg:https://www.listeso.com/wp-content/uploads/2025/10/53777c04-1157-11f0-bc63-0ee885ccc32f-5sEo1f.jpg
END:VEVENT
BEGIN:VEVENT
DTSTART;TZID=America/Toronto:20251101T183000
DTEND;TZID=America/Toronto:20251101T193000
DTSTAMP:20260426T013848
CREATED:20251024T110905Z
LAST-MODIFIED:20251024T110905Z
UID:10006108-1762021800-1762025400@www.listeso.com
SUMMARY:Candlelight: Queen vs. ABBA
DESCRIPTION:Overview\nCandlelight concerts bring the magic of a live\, multi-sensory musical experience to awe-inspiring locations like never seen before in Toronto. Get your tickets now to discover the music of Queen vs. ABBA at The Royal Theatre under the gentle glow of candlelight. \nGeneral Info\n\n📍 Venue: The Royal Theatre\n⏳ Duration: 60 minutes. Doors open 60 minutes before the show and close 5 minutes prior to the start. Late arrivals will not be permitted\n👤 Age requirement: 8 years old or older. Anyone under the age of 16 must be accompanied by an adult\n♿ Accessibility: This venue is accessible for people with reduced mobility\n🪑 Seating: Seating is assigned on a first come first served basis in each zone\n\nTentative Program\n\nDancing Queen – ABBA\nSOS – ABBA\nMoney\, Money\, Money – ABBA\nBohemian Rhapsody – Queen\nI Want to Break Free – Queen\nWaterloo – ABBA\nSuper Trouper – ABBA\nMamma Mia – ABBA\nDon’t Stop Me Now – Queen\nWe Will Rock You – Queen\nWe Are the Champions – Queen\n\nPerformers\n🎻 String Quartet: 2 violins\, 1 viola\, 1 cello \nBook a Private Event\nLooking to create an unforgettable experience for your wedding\, or special occasion? We offer private event bookings with customized programs tailored to your needs. \nGet a quote
URL:https://www.listeso.com/concert/2025-11-01-the-royal-theatre-candlelight-queen-vs-abba/
LOCATION:The Royal Theatre\, Toronto\, Canada
CATEGORIES:Toronto, ON
ATTACH;FMTTYPE=image/jpeg:https://www.listeso.com/wp-content/uploads/2025/10/66cd0d5a-1945-11f0-b4e1-16541c266220-gop1t7.jpg
END:VEVENT
BEGIN:VEVENT
DTSTART;TZID=America/Toronto:20251026T183000
DTEND;TZID=America/Toronto:20251026T193000
DTSTAMP:20260426T013848
CREATED:20251006T175407Z
LAST-MODIFIED:20251006T175407Z
UID:10005517-1761503400-1761507000@www.listeso.com
SUMMARY:Candlelight: A Haunted Evening of Halloween Classics
DESCRIPTION:Overview\nCandlelight concerts bring the magic of a live\, multi-sensory musical experience to awe-inspiring locations like never seen before in Toronto. Get your tickets now to discover music inspired by Halloween at The Royal Theatre under the gentle glow of candlelight. \nGeneral Info\n\n⏳ Duration: 60 minutes. Doors open 60 minutes before the show and close 5 minutes prior to the start. Late arrivals will not be permitted\n👤 Age requirement: 8 years old or older. Anyone under the age of 16 must be accompanied by an adult\n♿ Accessibility: This venue is accessible for people with reduced mobility\n🪑 Seating: Seating is assigned on a first come first served basis in each zone\n\nTentative Program\n\nThriller – Michael Jackson\nFuneral March of a Marionette – Charles Gounod\nString Quartet No. 8 in C Minor (Dresden Quartet)\, Op. 110: II. Allegro Molto – Dmitri Shostakovich\nTubular Bells (Theme from The Exorcist) – Mike Oldfield\nStranger Things (Theme) – S U R V I V E\nBeetlejuice (Theme) – Danny Elfman\nThe Addams Family (Theme) – Vic Mizzy\nHalloween (Theme) – John Carpenter\nPrelude from Psycho – Bernard Herrmann\nGhostbusters (Theme) – Ray Parker Jr.\nDanse Macabre – Camille Saint-Saëns\nNight on Bald Mountain – Modest Mussorgsky\nTime Warp from The Rocky Horror Picture Show – Richard O’Brien and Richard Hartley\nMedley from The Nightmare Before Christmas – Danny Elfman\n\nPerformers\n🎻 String Quartet \nBook a Private Event\nLooking to create an unforgettable experience for your wedding\, or special occasion? We offer private event bookings with customized programs tailored to your needs. \nGet a quote
URL:https://www.listeso.com/concert/2025-10-26-the-royal-theatre-a-haunted-evening-of-halloween-classics/
LOCATION:The Royal Theatre\, Toronto\, Canada
CATEGORIES:Toronto, ON
ATTACH;FMTTYPE=image/jpeg:https://www.listeso.com/wp-content/uploads/2025/10/9c1f3eb6-3ba4-11f0-9336-8eeeae356744-2qUQ03.jpg
END:VEVENT
BEGIN:VEVENT
DTSTART;TZID=America/Toronto:20251024T183000
DTEND;TZID=America/Toronto:20251024T193000
DTSTAMP:20260426T013848
CREATED:20251006T175353Z
LAST-MODIFIED:20251006T175353Z
UID:10005516-1761330600-1761334200@www.listeso.com
SUMMARY:Candlelight: A Haunted Evening of Halloween Classics
DESCRIPTION:Overview\nCandlelight concerts bring the magic of a live\, multi-sensory musical experience to awe-inspiring locations like never seen before in Toronto. Get your tickets now to discover music inspired by Halloween at The Royal Theatre under the gentle glow of candlelight. \nGeneral Info\n\n📍 Venue: The Royal Theatre\n⏳ Duration: 60 minutes. Doors open 60 minutes before the show and close 5 minutes prior to the start. Late arrivals will not be permitted\n👤 Age requirement: 8 years old or older. Anyone under the age of 16 must be accompanied by an adult\n♿ Accessibility: This venue is accessible for people with reduced mobility\n🪑 Seating: Seating is assigned on a first come first served basis in each zone\n\nTentative Program\n\nThriller – Michael Jackson\nFuneral March of a Marionette – Charles Gounod\nString Quartet No. 8 in C Minor (Dresden Quartet)\, Op. 110: II. Allegro Molto – Dmitri Shostakovich\nTubular Bells (Theme from The Exorcist) – Mike Oldfield\nStranger Things (Theme) – S U R V I V E\nBeetlejuice (Theme) – Danny Elfman\nThe Addams Family (Theme) – Vic Mizzy\nHalloween (Theme) – John Carpenter\nPrelude from Psycho – Bernard Herrmann\nGhostbusters (Theme) – Ray Parker Jr.\nDanse Macabre – Camille Saint-Saëns\nNight on Bald Mountain – Modest Mussorgsky\nTime Warp from The Rocky Horror Picture Show – Richard O’Brien and Richard Hartley\nMedley from The Nightmare Before Christmas – Danny Elfman\n\nPerformers\n🎻 String Quartet \nBook a Private Event\nLooking to create an unforgettable experience for your wedding\, or special occasion? We offer private event bookings with customized programs tailored to your needs. \nGet a quote
URL:https://www.listeso.com/concert/2025-10-24-the-royal-theatre-a-haunted-evening-of-halloween-classics/
LOCATION:The Royal Theatre\, Toronto\, Canada
CATEGORIES:Toronto, ON
ATTACH;FMTTYPE=image/jpeg:https://www.listeso.com/wp-content/uploads/2025/10/9c1f3eb6-3ba4-11f0-9336-8eeeae356744-2qUQ03.jpg
END:VEVENT
END:VCALENDAR